BEGIN:VCALENDAR
VERSION:2.0
PRODID:-//Hilton Head National  RV - ECPv6.15.20//NONSGML v1.0//EN
CALSCALE:GREGORIAN
METHOD:PUBLISH
X-ORIGINAL-URL:https://www.hiltonheadrv.com
X-WR-CALDESC:Events for Hilton Head National  RV
REFRESH-INTERVAL;VALUE=DURATION:PT1H
X-Robots-Tag:noindex
X-PUBLISHED-TTL:PT1H
BEGIN:VTIMEZONE
TZID:America/New_York
BEGIN:DAYLIGHT
TZOFFSETFROM:-0500
TZOFFSETTO:-0400
TZNAME:EDT
DTSTART:20250309T070000
END:DAYLIGHT
BEGIN:STANDARD
TZOFFSETFROM:-0400
TZOFFSETTO:-0500
TZNAME:EST
DTSTART:20251102T060000
END:STANDARD
BEGIN:DAYLIGHT
TZOFFSETFROM:-0500
TZOFFSETTO:-0400
TZNAME:EDT
DTSTART:20260308T070000
END:DAYLIGHT
BEGIN:STANDARD
TZOFFSETFROM:-0400
TZOFFSETTO:-0500
TZNAME:EST
DTSTART:20261101T060000
END:STANDARD
BEGIN:DAYLIGHT
TZOFFSETFROM:-0500
TZOFFSETTO:-0400
TZNAME:EDT
DTSTART:20270314T070000
END:DAYLIGHT
BEGIN:STANDARD
TZOFFSETFROM:-0400
TZOFFSETTO:-0500
TZNAME:EST
DTSTART:20271107T060000
END:STANDARD
END:VTIMEZONE
BEGIN:VEVENT
DTSTART;TZID=America/New_York:20260428T160000
DTEND;TZID=America/New_York:20260428T200000
DTSTAMP:20260421T105740
CREATED:20250926T173511Z
LAST-MODIFIED:20250926T173511Z
UID:10018233-1777392000-1777406400@www.hiltonheadrv.com
SUMMARY:Tacos & Tequila
DESCRIPTION:🌮✨ Tacos & Tequila Tuesdays ✨🍹Join us every Tuesday from 4–8 PM at Billy Mac’s for an evening of flavor and fun. Enjoy chef-crafted tacos paired with premium tequilas and handcrafted cocktails in a lively\, upscale atmosphere. The perfect midweek escape — where great food\, great drinks\, and great company come together.
URL:https://www.hiltonheadrv.com/event/tacos-tequila/2026-04-28/
LOCATION:Billy Mac’s Grille
CATEGORIES:On-Site Activities
END:VEVENT
BEGIN:VEVENT
DTSTART;TZID=America/New_York:20260429T090000
DTEND;TZID=America/New_York:20260429T090000
DTSTAMP:20260421T105740
CREATED:20250628T160049Z
LAST-MODIFIED:20251219T185845Z
UID:10010275-1777453200-1777453200@www.hiltonheadrv.com
SUMMARY:Coffee and Donuts
DESCRIPTION:Start your morning right with a fresh cup of coffee and a sweet donut (or two!). A perfect chance to mingle\, relax\, and ease into the day with your neighbors. 🍩✨ \n🕘 Time: 9:00 AM📍 Location: Main Clubhouse
URL:https://www.hiltonheadrv.com/event/coffee-and-donuts-2/2026-04-29/
CATEGORIES:Carousel Event,On-Site Activities
ATTACH;FMTTYPE=image/png:https://www.hiltonheadrv.com/wp-content/uploads/2025/06/Coffee-Donuts-Graphic.png
END:VEVENT
BEGIN:VEVENT
DTSTART;TZID=America/New_York:20260429T090000
DTEND;TZID=America/New_York:20260429T100000
DTSTAMP:20260421T105740
CREATED:20250628T142417Z
LAST-MODIFIED:20260305T154558Z
UID:10015844-1777453200-1777456800@www.hiltonheadrv.com
SUMMARY:Family Photo Hour
DESCRIPTION:Capture the magic of your stay at our Family Photo Hour! Join us for a complimentary mini photo session set against the beautiful backdrop of the resort. It’s the perfect way to preserve special memories with your loved ones — and each family receives their photos digitally\, free of charge! \n🕐 Time: 9:00 AM \n📍 Location: Main Pool
URL:https://www.hiltonheadrv.com/event/family-photo-hour-3/2026-04-29/
CATEGORIES:On-Site Activities
ATTACH;FMTTYPE=image/png:https://www.hiltonheadrv.com/wp-content/uploads/2025/06/Family-Photo-Hour-Graphic-3.png
END:VEVENT
BEGIN:VEVENT
DTSTART;TZID=America/New_York:20260429T140000
DTEND;TZID=America/New_York:20260429T140000
DTSTAMP:20260421T105740
CREATED:20260206T211732Z
LAST-MODIFIED:20260416T194748Z
UID:10023195-1777471200-1777471200@www.hiltonheadrv.com
SUMMARY:Pickleball Meet & Greet
DESCRIPTION:Join your neighbors on the court for a casual Pickleball Meet & Greet! Whether you’re a seasoned player or just learning the ropes\, everyone is welcome. Bring your paddle and let’s rally!
URL:https://www.hiltonheadrv.com/event/pickleball-meetup-6-2/2026-04-29/
CATEGORIES:On-Site Activities
ATTACH;FMTTYPE=image/png:https://www.hiltonheadrv.com/wp-content/uploads/2025/05/Pickleball-Meetup.png
END:VEVENT
BEGIN:VEVENT
DTSTART;TZID=America/New_York:20260430T170000
DTEND;TZID=America/New_York:20260430T180000
DTSTAMP:20260421T105740
CREATED:20250617T175221Z
LAST-MODIFIED:20260402T203044Z
UID:10011324-1777568400-1777572000@www.hiltonheadrv.com
SUMMARY:Music Bingo
DESCRIPTION:Get ready for a musical twist on classic bingo! Tap your toes\, sing along\, and match the tunes to your card. Prizes\, fun\, and feel-good vibes guaranteed. Whether you’re a music buff or just love a good time\, this one’s for you! 🎵💃🎉 \n🕔 Time: 5:00 PM📍 Location: Billy Mac
URL:https://www.hiltonheadrv.com/event/music-bingo/2026-04-30/
CATEGORIES:Carousel Event,On-Site Activities
ATTACH;FMTTYPE=image/png:https://www.hiltonheadrv.com/wp-content/uploads/2025/06/Music-Bingo-Graphic.png
END:VEVENT
END:VCALENDAR