BEGIN:VCALENDAR
VERSION:2.0
PRODID:-//Hilton Head National  RV - ECPv6.15.20//NONSGML v1.0//EN
CALSCALE:GREGORIAN
METHOD:PUBLISH
X-WR-CALNAME:Hilton Head National  RV
X-ORIGINAL-URL:https://www.hiltonheadrv.com
X-WR-CALDESC:Events for Hilton Head National  RV
REFRESH-INTERVAL;VALUE=DURATION:PT1H
X-Robots-Tag:noindex
X-PUBLISHED-TTL:PT1H
BEGIN:VTIMEZONE
TZID:America/New_York
BEGIN:DAYLIGHT
TZOFFSETFROM:-0500
TZOFFSETTO:-0400
TZNAME:EDT
DTSTART:20250309T070000
END:DAYLIGHT
BEGIN:STANDARD
TZOFFSETFROM:-0400
TZOFFSETTO:-0500
TZNAME:EST
DTSTART:20251102T060000
END:STANDARD
BEGIN:DAYLIGHT
TZOFFSETFROM:-0500
TZOFFSETTO:-0400
TZNAME:EDT
DTSTART:20260308T070000
END:DAYLIGHT
BEGIN:STANDARD
TZOFFSETFROM:-0400
TZOFFSETTO:-0500
TZNAME:EST
DTSTART:20261101T060000
END:STANDARD
BEGIN:DAYLIGHT
TZOFFSETFROM:-0500
TZOFFSETTO:-0400
TZNAME:EDT
DTSTART:20270314T070000
END:DAYLIGHT
BEGIN:STANDARD
TZOFFSETFROM:-0400
TZOFFSETTO:-0500
TZNAME:EST
DTSTART:20271107T060000
END:STANDARD
END:VTIMEZONE
BEGIN:VEVENT
DTSTART;TZID=America/New_York:20260426T140000
DTEND;TZID=America/New_York:20260426T160000
DTSTAMP:20260421T104325
CREATED:20260305T161436Z
LAST-MODIFIED:20260402T204729Z
UID:10024735-1777212000-1777219200@www.hiltonheadrv.com
SUMMARY:Sundae on Sundays
DESCRIPTION:Treat yourself at Sundae on Sundays! 🍨 Purchase a delicious scoop of ice cream and make it your own at our complimentary topping bar\, filled with sweet extras and fun flavors. It’s the perfect way to end the weekend with a little something sweet!
URL:https://www.hiltonheadrv.com/event/sundae-on-sundays/2026-04-26/
CATEGORIES:On-Site Activities
END:VEVENT
BEGIN:VEVENT
DTSTART;TZID=America/New_York:20260503T140000
DTEND;TZID=America/New_York:20260503T160000
DTSTAMP:20260421T104325
CREATED:20260305T161436Z
LAST-MODIFIED:20260402T204729Z
UID:10024736-1777816800-1777824000@www.hiltonheadrv.com
SUMMARY:Sundae on Sundays
DESCRIPTION:Treat yourself at Sundae on Sundays! 🍨 Purchase a delicious scoop of ice cream and make it your own at our complimentary topping bar\, filled with sweet extras and fun flavors. It’s the perfect way to end the weekend with a little something sweet!
URL:https://www.hiltonheadrv.com/event/sundae-on-sundays/2026-05-03/
CATEGORIES:On-Site Activities
END:VEVENT
BEGIN:VEVENT
DTSTART;TZID=America/New_York:20260510T140000
DTEND;TZID=America/New_York:20260510T160000
DTSTAMP:20260421T104325
CREATED:20260305T161436Z
LAST-MODIFIED:20260402T204729Z
UID:10024737-1778421600-1778428800@www.hiltonheadrv.com
SUMMARY:Sundae on Sundays
DESCRIPTION:Treat yourself at Sundae on Sundays! 🍨 Purchase a delicious scoop of ice cream and make it your own at our complimentary topping bar\, filled with sweet extras and fun flavors. It’s the perfect way to end the weekend with a little something sweet!
URL:https://www.hiltonheadrv.com/event/sundae-on-sundays/2026-05-10/
CATEGORIES:On-Site Activities
END:VEVENT
BEGIN:VEVENT
DTSTART;TZID=America/New_York:20260517T140000
DTEND;TZID=America/New_York:20260517T160000
DTSTAMP:20260421T104325
CREATED:20260305T161436Z
LAST-MODIFIED:20260402T204729Z
UID:10024738-1779026400-1779033600@www.hiltonheadrv.com
SUMMARY:Sundae on Sundays
DESCRIPTION:Treat yourself at Sundae on Sundays! 🍨 Purchase a delicious scoop of ice cream and make it your own at our complimentary topping bar\, filled with sweet extras and fun flavors. It’s the perfect way to end the weekend with a little something sweet!
URL:https://www.hiltonheadrv.com/event/sundae-on-sundays/2026-05-17/
CATEGORIES:On-Site Activities
END:VEVENT
BEGIN:VEVENT
DTSTART;TZID=America/New_York:20260524T140000
DTEND;TZID=America/New_York:20260524T160000
DTSTAMP:20260421T104325
CREATED:20260305T161436Z
LAST-MODIFIED:20260402T204729Z
UID:10024739-1779631200-1779638400@www.hiltonheadrv.com
SUMMARY:Sundae on Sundays
DESCRIPTION:Treat yourself at Sundae on Sundays! 🍨 Purchase a delicious scoop of ice cream and make it your own at our complimentary topping bar\, filled with sweet extras and fun flavors. It’s the perfect way to end the weekend with a little something sweet!
URL:https://www.hiltonheadrv.com/event/sundae-on-sundays/2026-05-24/
CATEGORIES:On-Site Activities
END:VEVENT
BEGIN:VEVENT
DTSTART;TZID=America/New_York:20260531T140000
DTEND;TZID=America/New_York:20260531T160000
DTSTAMP:20260421T104325
CREATED:20260305T161436Z
LAST-MODIFIED:20260402T204729Z
UID:10024740-1780236000-1780243200@www.hiltonheadrv.com
SUMMARY:Sundae on Sundays
DESCRIPTION:Treat yourself at Sundae on Sundays! 🍨 Purchase a delicious scoop of ice cream and make it your own at our complimentary topping bar\, filled with sweet extras and fun flavors. It’s the perfect way to end the weekend with a little something sweet!
URL:https://www.hiltonheadrv.com/event/sundae-on-sundays/2026-05-31/
CATEGORIES:On-Site Activities
END:VEVENT
BEGIN:VEVENT
DTSTART;TZID=America/New_York:20260607T140000
DTEND;TZID=America/New_York:20260607T160000
DTSTAMP:20260421T104325
CREATED:20260305T161436Z
LAST-MODIFIED:20260402T204729Z
UID:10024741-1780840800-1780848000@www.hiltonheadrv.com
SUMMARY:Sundae on Sundays
DESCRIPTION:Treat yourself at Sundae on Sundays! 🍨 Purchase a delicious scoop of ice cream and make it your own at our complimentary topping bar\, filled with sweet extras and fun flavors. It’s the perfect way to end the weekend with a little something sweet!
URL:https://www.hiltonheadrv.com/event/sundae-on-sundays/2026-06-07/
CATEGORIES:On-Site Activities
END:VEVENT
BEGIN:VEVENT
DTSTART;TZID=America/New_York:20260614T140000
DTEND;TZID=America/New_York:20260614T160000
DTSTAMP:20260421T104325
CREATED:20260305T161436Z
LAST-MODIFIED:20260402T204729Z
UID:10024742-1781445600-1781452800@www.hiltonheadrv.com
SUMMARY:Sundae on Sundays
DESCRIPTION:Treat yourself at Sundae on Sundays! 🍨 Purchase a delicious scoop of ice cream and make it your own at our complimentary topping bar\, filled with sweet extras and fun flavors. It’s the perfect way to end the weekend with a little something sweet!
URL:https://www.hiltonheadrv.com/event/sundae-on-sundays/2026-06-14/
CATEGORIES:On-Site Activities
END:VEVENT
BEGIN:VEVENT
DTSTART;TZID=America/New_York:20260621T140000
DTEND;TZID=America/New_York:20260621T160000
DTSTAMP:20260421T104325
CREATED:20260305T161436Z
LAST-MODIFIED:20260402T204729Z
UID:10024743-1782050400-1782057600@www.hiltonheadrv.com
SUMMARY:Sundae on Sundays
DESCRIPTION:Treat yourself at Sundae on Sundays! 🍨 Purchase a delicious scoop of ice cream and make it your own at our complimentary topping bar\, filled with sweet extras and fun flavors. It’s the perfect way to end the weekend with a little something sweet!
URL:https://www.hiltonheadrv.com/event/sundae-on-sundays/2026-06-21/
CATEGORIES:On-Site Activities
END:VEVENT
BEGIN:VEVENT
DTSTART;TZID=America/New_York:20260628T140000
DTEND;TZID=America/New_York:20260628T160000
DTSTAMP:20260421T104325
CREATED:20260305T161436Z
LAST-MODIFIED:20260402T204729Z
UID:10024744-1782655200-1782662400@www.hiltonheadrv.com
SUMMARY:Sundae on Sundays
DESCRIPTION:Treat yourself at Sundae on Sundays! 🍨 Purchase a delicious scoop of ice cream and make it your own at our complimentary topping bar\, filled with sweet extras and fun flavors. It’s the perfect way to end the weekend with a little something sweet!
URL:https://www.hiltonheadrv.com/event/sundae-on-sundays/2026-06-28/
CATEGORIES:On-Site Activities
END:VEVENT
BEGIN:VEVENT
DTSTART;TZID=America/New_York:20260705T140000
DTEND;TZID=America/New_York:20260705T160000
DTSTAMP:20260421T104325
CREATED:20260305T161436Z
LAST-MODIFIED:20260402T204729Z
UID:10024745-1783260000-1783267200@www.hiltonheadrv.com
SUMMARY:Sundae on Sundays
DESCRIPTION:Treat yourself at Sundae on Sundays! 🍨 Purchase a delicious scoop of ice cream and make it your own at our complimentary topping bar\, filled with sweet extras and fun flavors. It’s the perfect way to end the weekend with a little something sweet!
URL:https://www.hiltonheadrv.com/event/sundae-on-sundays/2026-07-05/
CATEGORIES:On-Site Activities
END:VEVENT
BEGIN:VEVENT
DTSTART;TZID=America/New_York:20260712T140000
DTEND;TZID=America/New_York:20260712T160000
DTSTAMP:20260421T104325
CREATED:20260305T161436Z
LAST-MODIFIED:20260402T204729Z
UID:10024746-1783864800-1783872000@www.hiltonheadrv.com
SUMMARY:Sundae on Sundays
DESCRIPTION:Treat yourself at Sundae on Sundays! 🍨 Purchase a delicious scoop of ice cream and make it your own at our complimentary topping bar\, filled with sweet extras and fun flavors. It’s the perfect way to end the weekend with a little something sweet!
URL:https://www.hiltonheadrv.com/event/sundae-on-sundays/2026-07-12/
CATEGORIES:On-Site Activities
END:VEVENT
BEGIN:VEVENT
DTSTART;TZID=America/New_York:20260719T140000
DTEND;TZID=America/New_York:20260719T160000
DTSTAMP:20260421T104325
CREATED:20260305T161436Z
LAST-MODIFIED:20260402T204729Z
UID:10024747-1784469600-1784476800@www.hiltonheadrv.com
SUMMARY:Sundae on Sundays
DESCRIPTION:Treat yourself at Sundae on Sundays! 🍨 Purchase a delicious scoop of ice cream and make it your own at our complimentary topping bar\, filled with sweet extras and fun flavors. It’s the perfect way to end the weekend with a little something sweet!
URL:https://www.hiltonheadrv.com/event/sundae-on-sundays/2026-07-19/
CATEGORIES:On-Site Activities
END:VEVENT
BEGIN:VEVENT
DTSTART;TZID=America/New_York:20260726T140000
DTEND;TZID=America/New_York:20260726T160000
DTSTAMP:20260421T104325
CREATED:20260305T161436Z
LAST-MODIFIED:20260402T204729Z
UID:10024748-1785074400-1785081600@www.hiltonheadrv.com
SUMMARY:Sundae on Sundays
DESCRIPTION:Treat yourself at Sundae on Sundays! 🍨 Purchase a delicious scoop of ice cream and make it your own at our complimentary topping bar\, filled with sweet extras and fun flavors. It’s the perfect way to end the weekend with a little something sweet!
URL:https://www.hiltonheadrv.com/event/sundae-on-sundays/2026-07-26/
CATEGORIES:On-Site Activities
END:VEVENT
BEGIN:VEVENT
DTSTART;TZID=America/New_York:20260802T140000
DTEND;TZID=America/New_York:20260802T160000
DTSTAMP:20260421T104325
CREATED:20260305T161436Z
LAST-MODIFIED:20260402T204729Z
UID:10024749-1785679200-1785686400@www.hiltonheadrv.com
SUMMARY:Sundae on Sundays
DESCRIPTION:Treat yourself at Sundae on Sundays! 🍨 Purchase a delicious scoop of ice cream and make it your own at our complimentary topping bar\, filled with sweet extras and fun flavors. It’s the perfect way to end the weekend with a little something sweet!
URL:https://www.hiltonheadrv.com/event/sundae-on-sundays/2026-08-02/
CATEGORIES:On-Site Activities
END:VEVENT
BEGIN:VEVENT
DTSTART;TZID=America/New_York:20260809T140000
DTEND;TZID=America/New_York:20260809T160000
DTSTAMP:20260421T104325
CREATED:20260305T161436Z
LAST-MODIFIED:20260402T204729Z
UID:10024750-1786284000-1786291200@www.hiltonheadrv.com
SUMMARY:Sundae on Sundays
DESCRIPTION:Treat yourself at Sundae on Sundays! 🍨 Purchase a delicious scoop of ice cream and make it your own at our complimentary topping bar\, filled with sweet extras and fun flavors. It’s the perfect way to end the weekend with a little something sweet!
URL:https://www.hiltonheadrv.com/event/sundae-on-sundays/2026-08-09/
CATEGORIES:On-Site Activities
END:VEVENT
BEGIN:VEVENT
DTSTART;TZID=America/New_York:20260816T140000
DTEND;TZID=America/New_York:20260816T160000
DTSTAMP:20260421T104325
CREATED:20260305T161436Z
LAST-MODIFIED:20260402T204729Z
UID:10024751-1786888800-1786896000@www.hiltonheadrv.com
SUMMARY:Sundae on Sundays
DESCRIPTION:Treat yourself at Sundae on Sundays! 🍨 Purchase a delicious scoop of ice cream and make it your own at our complimentary topping bar\, filled with sweet extras and fun flavors. It’s the perfect way to end the weekend with a little something sweet!
URL:https://www.hiltonheadrv.com/event/sundae-on-sundays/2026-08-16/
CATEGORIES:On-Site Activities
END:VEVENT
BEGIN:VEVENT
DTSTART;TZID=America/New_York:20260823T140000
DTEND;TZID=America/New_York:20260823T160000
DTSTAMP:20260421T104325
CREATED:20260305T161436Z
LAST-MODIFIED:20260402T204729Z
UID:10024752-1787493600-1787500800@www.hiltonheadrv.com
SUMMARY:Sundae on Sundays
DESCRIPTION:Treat yourself at Sundae on Sundays! 🍨 Purchase a delicious scoop of ice cream and make it your own at our complimentary topping bar\, filled with sweet extras and fun flavors. It’s the perfect way to end the weekend with a little something sweet!
URL:https://www.hiltonheadrv.com/event/sundae-on-sundays/2026-08-23/
CATEGORIES:On-Site Activities
END:VEVENT
BEGIN:VEVENT
DTSTART;TZID=America/New_York:20260830T140000
DTEND;TZID=America/New_York:20260830T160000
DTSTAMP:20260421T104325
CREATED:20260305T161436Z
LAST-MODIFIED:20260402T204729Z
UID:10024753-1788098400-1788105600@www.hiltonheadrv.com
SUMMARY:Sundae on Sundays
DESCRIPTION:Treat yourself at Sundae on Sundays! 🍨 Purchase a delicious scoop of ice cream and make it your own at our complimentary topping bar\, filled with sweet extras and fun flavors. It’s the perfect way to end the weekend with a little something sweet!
URL:https://www.hiltonheadrv.com/event/sundae-on-sundays/2026-08-30/
CATEGORIES:On-Site Activities
END:VEVENT
BEGIN:VEVENT
DTSTART;TZID=America/New_York:20260906T140000
DTEND;TZID=America/New_York:20260906T160000
DTSTAMP:20260421T104325
CREATED:20260305T161436Z
LAST-MODIFIED:20260402T204729Z
UID:10024754-1788703200-1788710400@www.hiltonheadrv.com
SUMMARY:Sundae on Sundays
DESCRIPTION:Treat yourself at Sundae on Sundays! 🍨 Purchase a delicious scoop of ice cream and make it your own at our complimentary topping bar\, filled with sweet extras and fun flavors. It’s the perfect way to end the weekend with a little something sweet!
URL:https://www.hiltonheadrv.com/event/sundae-on-sundays/2026-09-06/
CATEGORIES:On-Site Activities
END:VEVENT
BEGIN:VEVENT
DTSTART;TZID=America/New_York:20260913T140000
DTEND;TZID=America/New_York:20260913T160000
DTSTAMP:20260421T104325
CREATED:20260305T161436Z
LAST-MODIFIED:20260402T204729Z
UID:10024755-1789308000-1789315200@www.hiltonheadrv.com
SUMMARY:Sundae on Sundays
DESCRIPTION:Treat yourself at Sundae on Sundays! 🍨 Purchase a delicious scoop of ice cream and make it your own at our complimentary topping bar\, filled with sweet extras and fun flavors. It’s the perfect way to end the weekend with a little something sweet!
URL:https://www.hiltonheadrv.com/event/sundae-on-sundays/2026-09-13/
CATEGORIES:On-Site Activities
END:VEVENT
BEGIN:VEVENT
DTSTART;TZID=America/New_York:20260920T140000
DTEND;TZID=America/New_York:20260920T160000
DTSTAMP:20260421T104325
CREATED:20260305T161436Z
LAST-MODIFIED:20260402T204729Z
UID:10024756-1789912800-1789920000@www.hiltonheadrv.com
SUMMARY:Sundae on Sundays
DESCRIPTION:Treat yourself at Sundae on Sundays! 🍨 Purchase a delicious scoop of ice cream and make it your own at our complimentary topping bar\, filled with sweet extras and fun flavors. It’s the perfect way to end the weekend with a little something sweet!
URL:https://www.hiltonheadrv.com/event/sundae-on-sundays/2026-09-20/
CATEGORIES:On-Site Activities
END:VEVENT
BEGIN:VEVENT
DTSTART;TZID=America/New_York:20260927T140000
DTEND;TZID=America/New_York:20260927T160000
DTSTAMP:20260421T104325
CREATED:20260305T161436Z
LAST-MODIFIED:20260402T204729Z
UID:10024757-1790517600-1790524800@www.hiltonheadrv.com
SUMMARY:Sundae on Sundays
DESCRIPTION:Treat yourself at Sundae on Sundays! 🍨 Purchase a delicious scoop of ice cream and make it your own at our complimentary topping bar\, filled with sweet extras and fun flavors. It’s the perfect way to end the weekend with a little something sweet!
URL:https://www.hiltonheadrv.com/event/sundae-on-sundays/2026-09-27/
CATEGORIES:On-Site Activities
END:VEVENT
BEGIN:VEVENT
DTSTART;TZID=America/New_York:20261004T140000
DTEND;TZID=America/New_York:20261004T160000
DTSTAMP:20260421T104325
CREATED:20260305T161436Z
LAST-MODIFIED:20260402T204729Z
UID:10024758-1791122400-1791129600@www.hiltonheadrv.com
SUMMARY:Sundae on Sundays
DESCRIPTION:Treat yourself at Sundae on Sundays! 🍨 Purchase a delicious scoop of ice cream and make it your own at our complimentary topping bar\, filled with sweet extras and fun flavors. It’s the perfect way to end the weekend with a little something sweet!
URL:https://www.hiltonheadrv.com/event/sundae-on-sundays/2026-10-04/
CATEGORIES:On-Site Activities
END:VEVENT
BEGIN:VEVENT
DTSTART;TZID=America/New_York:20261011T140000
DTEND;TZID=America/New_York:20261011T160000
DTSTAMP:20260421T104325
CREATED:20260305T161436Z
LAST-MODIFIED:20260402T204729Z
UID:10024759-1791727200-1791734400@www.hiltonheadrv.com
SUMMARY:Sundae on Sundays
DESCRIPTION:Treat yourself at Sundae on Sundays! 🍨 Purchase a delicious scoop of ice cream and make it your own at our complimentary topping bar\, filled with sweet extras and fun flavors. It’s the perfect way to end the weekend with a little something sweet!
URL:https://www.hiltonheadrv.com/event/sundae-on-sundays/2026-10-11/
CATEGORIES:On-Site Activities
END:VEVENT
BEGIN:VEVENT
DTSTART;TZID=America/New_York:20261018T140000
DTEND;TZID=America/New_York:20261018T160000
DTSTAMP:20260421T104325
CREATED:20260305T161436Z
LAST-MODIFIED:20260402T204729Z
UID:10024760-1792332000-1792339200@www.hiltonheadrv.com
SUMMARY:Sundae on Sundays
DESCRIPTION:Treat yourself at Sundae on Sundays! 🍨 Purchase a delicious scoop of ice cream and make it your own at our complimentary topping bar\, filled with sweet extras and fun flavors. It’s the perfect way to end the weekend with a little something sweet!
URL:https://www.hiltonheadrv.com/event/sundae-on-sundays/2026-10-18/
CATEGORIES:On-Site Activities
END:VEVENT
BEGIN:VEVENT
DTSTART;TZID=America/New_York:20261025T140000
DTEND;TZID=America/New_York:20261025T160000
DTSTAMP:20260421T104325
CREATED:20260305T161436Z
LAST-MODIFIED:20260402T204729Z
UID:10024761-1792936800-1792944000@www.hiltonheadrv.com
SUMMARY:Sundae on Sundays
DESCRIPTION:Treat yourself at Sundae on Sundays! 🍨 Purchase a delicious scoop of ice cream and make it your own at our complimentary topping bar\, filled with sweet extras and fun flavors. It’s the perfect way to end the weekend with a little something sweet!
URL:https://www.hiltonheadrv.com/event/sundae-on-sundays/2026-10-25/
CATEGORIES:On-Site Activities
END:VEVENT
BEGIN:VEVENT
DTSTART;TZID=America/New_York:20261101T140000
DTEND;TZID=America/New_York:20261101T160000
DTSTAMP:20260421T104325
CREATED:20260305T161436Z
LAST-MODIFIED:20260402T204729Z
UID:10024762-1793541600-1793548800@www.hiltonheadrv.com
SUMMARY:Sundae on Sundays
DESCRIPTION:Treat yourself at Sundae on Sundays! 🍨 Purchase a delicious scoop of ice cream and make it your own at our complimentary topping bar\, filled with sweet extras and fun flavors. It’s the perfect way to end the weekend with a little something sweet!
URL:https://www.hiltonheadrv.com/event/sundae-on-sundays/2026-11-01/
CATEGORIES:On-Site Activities
END:VEVENT
BEGIN:VEVENT
DTSTART;TZID=America/New_York:20261108T140000
DTEND;TZID=America/New_York:20261108T160000
DTSTAMP:20260421T104325
CREATED:20260305T161436Z
LAST-MODIFIED:20260402T204729Z
UID:10024763-1794146400-1794153600@www.hiltonheadrv.com
SUMMARY:Sundae on Sundays
DESCRIPTION:Treat yourself at Sundae on Sundays! 🍨 Purchase a delicious scoop of ice cream and make it your own at our complimentary topping bar\, filled with sweet extras and fun flavors. It’s the perfect way to end the weekend with a little something sweet!
URL:https://www.hiltonheadrv.com/event/sundae-on-sundays/2026-11-08/
CATEGORIES:On-Site Activities
END:VEVENT
BEGIN:VEVENT
DTSTART;TZID=America/New_York:20261115T140000
DTEND;TZID=America/New_York:20261115T160000
DTSTAMP:20260421T104325
CREATED:20260305T161436Z
LAST-MODIFIED:20260402T204729Z
UID:10024764-1794751200-1794758400@www.hiltonheadrv.com
SUMMARY:Sundae on Sundays
DESCRIPTION:Treat yourself at Sundae on Sundays! 🍨 Purchase a delicious scoop of ice cream and make it your own at our complimentary topping bar\, filled with sweet extras and fun flavors. It’s the perfect way to end the weekend with a little something sweet!
URL:https://www.hiltonheadrv.com/event/sundae-on-sundays/2026-11-15/
CATEGORIES:On-Site Activities
END:VEVENT
END:VCALENDAR