BEGIN:VCALENDAR
VERSION:2.0
PRODID:-//Hilton Head National  RV - ECPv6.15.20//NONSGML v1.0//EN
CALSCALE:GREGORIAN
METHOD:PUBLISH
X-ORIGINAL-URL:https://www.hiltonheadrv.com
X-WR-CALDESC:Events for Hilton Head National  RV
REFRESH-INTERVAL;VALUE=DURATION:PT1H
X-Robots-Tag:noindex
X-PUBLISHED-TTL:PT1H
BEGIN:VTIMEZONE
TZID:America/New_York
BEGIN:DAYLIGHT
TZOFFSETFROM:-0500
TZOFFSETTO:-0400
TZNAME:EDT
DTSTART:20280312T070000
END:DAYLIGHT
BEGIN:STANDARD
TZOFFSETFROM:-0400
TZOFFSETTO:-0500
TZNAME:EST
DTSTART:20281105T060000
END:STANDARD
BEGIN:DAYLIGHT
TZOFFSETFROM:-0500
TZOFFSETTO:-0400
TZNAME:EDT
DTSTART:20290311T070000
END:DAYLIGHT
BEGIN:STANDARD
TZOFFSETFROM:-0400
TZOFFSETTO:-0500
TZNAME:EST
DTSTART:20291104T060000
END:STANDARD
BEGIN:DAYLIGHT
TZOFFSETFROM:-0500
TZOFFSETTO:-0400
TZNAME:EDT
DTSTART:20300310T070000
END:DAYLIGHT
BEGIN:STANDARD
TZOFFSETFROM:-0400
TZOFFSETTO:-0500
TZNAME:EST
DTSTART:20301103T060000
END:STANDARD
END:VTIMEZONE
BEGIN:VEVENT
DTSTART;TZID=America/New_York:20290125T170000
DTEND;TZID=America/New_York:20290125T180000
DTSTAMP:20260425T234147
CREATED:20250617T175221Z
LAST-MODIFIED:20260402T203044Z
UID:10011467-1864054800-1864058400@www.hiltonheadrv.com
SUMMARY:Music Bingo
DESCRIPTION:Get ready for a musical twist on classic bingo! Tap your toes\, sing along\, and match the tunes to your card. Prizes\, fun\, and feel-good vibes guaranteed. Whether you’re a music buff or just love a good time\, this one’s for you! 🎵💃🎉 \n🕔 Time: 5:00 PM📍 Location: Billy Mac
URL:https://www.hiltonheadrv.com/event/music-bingo/2029-01-25/
CATEGORIES:Carousel Event,On-Site Activities
ATTACH;FMTTYPE=image/png:https://www.hiltonheadrv.com/wp-content/uploads/2025/06/Music-Bingo-Graphic.png
END:VEVENT
BEGIN:VEVENT
DTSTART;TZID=America/New_York:20290127T100000
DTEND;TZID=America/New_York:20290127T110000
DTSTAMP:20260425T234147
CREATED:20260410T210113Z
LAST-MODIFIED:20260416T200531Z
UID:10025842-1864202400-1864206000@www.hiltonheadrv.com
SUMMARY:Tie Dye
DESCRIPTION:Get colorful and creative at our Tie Dye session on the Back Lawn! We’ll provide the supplies—you bring the fun. Perfect for all ages\, and you’ll walk away with a one-of-a-kind wearable masterpiece!
URL:https://www.hiltonheadrv.com/event/tie-dye-7/2029-01-27/
CATEGORIES:Carousel Event,On-Site Activities
ATTACH;FMTTYPE=image/png:https://www.hiltonheadrv.com/wp-content/uploads/2025/06/Tie-Dye-Graphic-1.png
END:VEVENT
BEGIN:VEVENT
DTSTART;TZID=America/New_York:20290128T140000
DTEND;TZID=America/New_York:20290128T160000
DTSTAMP:20260425T234147
CREATED:20260305T161436Z
LAST-MODIFIED:20260402T204729Z
UID:10024879-1864303200-1864310400@www.hiltonheadrv.com
SUMMARY:Sundae on Sundays
DESCRIPTION:Treat yourself at Sundae on Sundays! 🍨 Purchase a delicious scoop of ice cream and make it your own at our complimentary topping bar\, filled with sweet extras and fun flavors. It’s the perfect way to end the weekend with a little something sweet!
URL:https://www.hiltonheadrv.com/event/sundae-on-sundays/2029-01-28/
CATEGORIES:On-Site Activities
END:VEVENT
BEGIN:VEVENT
DTSTART;TZID=America/New_York:20290129T120000
DTEND;TZID=America/New_York:20290129T120000
DTSTAMP:20260425T234147
CREATED:20260402T201732Z
LAST-MODIFIED:20260410T203150Z
UID:10025522-1864382400-1864382400@www.hiltonheadrv.com
SUMMARY:Scavenger Hunt
DESCRIPTION:
URL:https://www.hiltonheadrv.com/event/scavenger-hunt-2/2029-01-29/
CATEGORIES:On-Site Activities
END:VEVENT
BEGIN:VEVENT
DTSTART;TZID=America/New_York:20290130T160000
DTEND;TZID=America/New_York:20290130T200000
DTSTAMP:20260425T234147
CREATED:20250926T173511Z
LAST-MODIFIED:20250926T173511Z
UID:10018377-1864483200-1864497600@www.hiltonheadrv.com
SUMMARY:Tacos & Tequila
DESCRIPTION:🌮✨ Tacos & Tequila Tuesdays ✨🍹Join us every Tuesday from 4–8 PM at Billy Mac’s for an evening of flavor and fun. Enjoy chef-crafted tacos paired with premium tequilas and handcrafted cocktails in a lively\, upscale atmosphere. The perfect midweek escape — where great food\, great drinks\, and great company come together.
URL:https://www.hiltonheadrv.com/event/tacos-tequila/2029-01-30/
LOCATION:Billy Mac’s Grille
CATEGORIES:On-Site Activities
END:VEVENT
BEGIN:VEVENT
DTSTART;TZID=America/New_York:20290131T090000
DTEND;TZID=America/New_York:20290131T090000
DTSTAMP:20260425T234147
CREATED:20250628T160049Z
LAST-MODIFIED:20251219T185845Z
UID:10010419-1864544400-1864544400@www.hiltonheadrv.com
SUMMARY:Coffee and Donuts
DESCRIPTION:Start your morning right with a fresh cup of coffee and a sweet donut (or two!). A perfect chance to mingle\, relax\, and ease into the day with your neighbors. 🍩✨ \n🕘 Time: 9:00 AM📍 Location: Main Clubhouse
URL:https://www.hiltonheadrv.com/event/coffee-and-donuts-2/2029-01-31/
CATEGORIES:Carousel Event,On-Site Activities
ATTACH;FMTTYPE=image/png:https://www.hiltonheadrv.com/wp-content/uploads/2025/06/Coffee-Donuts-Graphic.png
END:VEVENT
BEGIN:VEVENT
DTSTART;TZID=America/New_York:20290131T090000
DTEND;TZID=America/New_York:20290131T100000
DTSTAMP:20260425T234147
CREATED:20250628T142417Z
LAST-MODIFIED:20260305T154558Z
UID:10015988-1864544400-1864548000@www.hiltonheadrv.com
SUMMARY:Family Photo Hour
DESCRIPTION:Capture the magic of your stay at our Family Photo Hour! Join us for a complimentary mini photo session set against the beautiful backdrop of the resort. It’s the perfect way to preserve special memories with your loved ones — and each family receives their photos digitally\, free of charge! \n🕐 Time: 9:00 AM \n📍 Location: Main Pool
URL:https://www.hiltonheadrv.com/event/family-photo-hour-3/2029-01-31/
CATEGORIES:On-Site Activities
ATTACH;FMTTYPE=image/png:https://www.hiltonheadrv.com/wp-content/uploads/2025/06/Family-Photo-Hour-Graphic-3.png
END:VEVENT
BEGIN:VEVENT
DTSTART;TZID=America/New_York:20290131T140000
DTEND;TZID=America/New_York:20290131T140000
DTSTAMP:20260425T234147
CREATED:20260206T211732Z
LAST-MODIFIED:20260416T194748Z
UID:10023339-1864562400-1864562400@www.hiltonheadrv.com
SUMMARY:Pickleball Meet & Greet
DESCRIPTION:Join your neighbors on the court for a casual Pickleball Meet & Greet! Whether you’re a seasoned player or just learning the ropes\, everyone is welcome. Bring your paddle and let’s rally!
URL:https://www.hiltonheadrv.com/event/pickleball-meetup-6-2/2029-01-31/
CATEGORIES:On-Site Activities
ATTACH;FMTTYPE=image/png:https://www.hiltonheadrv.com/wp-content/uploads/2025/05/Pickleball-Meetup.png
END:VEVENT
BEGIN:VEVENT
DTSTART;TZID=America/New_York:20290201T170000
DTEND;TZID=America/New_York:20290201T180000
DTSTAMP:20260425T234147
CREATED:20250617T175221Z
LAST-MODIFIED:20260402T203044Z
UID:10011468-1864659600-1864663200@www.hiltonheadrv.com
SUMMARY:Music Bingo
DESCRIPTION:Get ready for a musical twist on classic bingo! Tap your toes\, sing along\, and match the tunes to your card. Prizes\, fun\, and feel-good vibes guaranteed. Whether you’re a music buff or just love a good time\, this one’s for you! 🎵💃🎉 \n🕔 Time: 5:00 PM📍 Location: Billy Mac
URL:https://www.hiltonheadrv.com/event/music-bingo/2029-02-01/
CATEGORIES:Carousel Event,On-Site Activities
ATTACH;FMTTYPE=image/png:https://www.hiltonheadrv.com/wp-content/uploads/2025/06/Music-Bingo-Graphic.png
END:VEVENT
BEGIN:VEVENT
DTSTART;TZID=America/New_York:20290203T100000
DTEND;TZID=America/New_York:20290203T110000
DTSTAMP:20260425T234147
CREATED:20260410T210113Z
LAST-MODIFIED:20260416T200531Z
UID:10025843-1864807200-1864810800@www.hiltonheadrv.com
SUMMARY:Tie Dye
DESCRIPTION:Get colorful and creative at our Tie Dye session on the Back Lawn! We’ll provide the supplies—you bring the fun. Perfect for all ages\, and you’ll walk away with a one-of-a-kind wearable masterpiece!
URL:https://www.hiltonheadrv.com/event/tie-dye-7/2029-02-03/
CATEGORIES:Carousel Event,On-Site Activities
ATTACH;FMTTYPE=image/png:https://www.hiltonheadrv.com/wp-content/uploads/2025/06/Tie-Dye-Graphic-1.png
END:VEVENT
BEGIN:VEVENT
DTSTART;TZID=America/New_York:20290204T140000
DTEND;TZID=America/New_York:20290204T160000
DTSTAMP:20260425T234147
CREATED:20260305T161436Z
LAST-MODIFIED:20260402T204729Z
UID:10024880-1864908000-1864915200@www.hiltonheadrv.com
SUMMARY:Sundae on Sundays
DESCRIPTION:Treat yourself at Sundae on Sundays! 🍨 Purchase a delicious scoop of ice cream and make it your own at our complimentary topping bar\, filled with sweet extras and fun flavors. It’s the perfect way to end the weekend with a little something sweet!
URL:https://www.hiltonheadrv.com/event/sundae-on-sundays/2029-02-04/
CATEGORIES:On-Site Activities
END:VEVENT
BEGIN:VEVENT
DTSTART;TZID=America/New_York:20290205T120000
DTEND;TZID=America/New_York:20290205T120000
DTSTAMP:20260425T234147
CREATED:20260402T201732Z
LAST-MODIFIED:20260410T203150Z
UID:10025523-1864987200-1864987200@www.hiltonheadrv.com
SUMMARY:Scavenger Hunt
DESCRIPTION:
URL:https://www.hiltonheadrv.com/event/scavenger-hunt-2/2029-02-05/
CATEGORIES:On-Site Activities
END:VEVENT
BEGIN:VEVENT
DTSTART;TZID=America/New_York:20290206T160000
DTEND;TZID=America/New_York:20290206T200000
DTSTAMP:20260425T234147
CREATED:20250926T173511Z
LAST-MODIFIED:20250926T173511Z
UID:10018378-1865088000-1865102400@www.hiltonheadrv.com
SUMMARY:Tacos & Tequila
DESCRIPTION:🌮✨ Tacos & Tequila Tuesdays ✨🍹Join us every Tuesday from 4–8 PM at Billy Mac’s for an evening of flavor and fun. Enjoy chef-crafted tacos paired with premium tequilas and handcrafted cocktails in a lively\, upscale atmosphere. The perfect midweek escape — where great food\, great drinks\, and great company come together.
URL:https://www.hiltonheadrv.com/event/tacos-tequila/2029-02-06/
LOCATION:Billy Mac’s Grille
CATEGORIES:On-Site Activities
END:VEVENT
BEGIN:VEVENT
DTSTART;TZID=America/New_York:20290207T090000
DTEND;TZID=America/New_York:20290207T090000
DTSTAMP:20260425T234147
CREATED:20250628T160049Z
LAST-MODIFIED:20251219T185845Z
UID:10010420-1865149200-1865149200@www.hiltonheadrv.com
SUMMARY:Coffee and Donuts
DESCRIPTION:Start your morning right with a fresh cup of coffee and a sweet donut (or two!). A perfect chance to mingle\, relax\, and ease into the day with your neighbors. 🍩✨ \n🕘 Time: 9:00 AM📍 Location: Main Clubhouse
URL:https://www.hiltonheadrv.com/event/coffee-and-donuts-2/2029-02-07/
CATEGORIES:Carousel Event,On-Site Activities
ATTACH;FMTTYPE=image/png:https://www.hiltonheadrv.com/wp-content/uploads/2025/06/Coffee-Donuts-Graphic.png
END:VEVENT
BEGIN:VEVENT
DTSTART;TZID=America/New_York:20290207T090000
DTEND;TZID=America/New_York:20290207T100000
DTSTAMP:20260425T234147
CREATED:20250628T142417Z
LAST-MODIFIED:20260305T154558Z
UID:10015989-1865149200-1865152800@www.hiltonheadrv.com
SUMMARY:Family Photo Hour
DESCRIPTION:Capture the magic of your stay at our Family Photo Hour! Join us for a complimentary mini photo session set against the beautiful backdrop of the resort. It’s the perfect way to preserve special memories with your loved ones — and each family receives their photos digitally\, free of charge! \n🕐 Time: 9:00 AM \n📍 Location: Main Pool
URL:https://www.hiltonheadrv.com/event/family-photo-hour-3/2029-02-07/
CATEGORIES:On-Site Activities
ATTACH;FMTTYPE=image/png:https://www.hiltonheadrv.com/wp-content/uploads/2025/06/Family-Photo-Hour-Graphic-3.png
END:VEVENT
BEGIN:VEVENT
DTSTART;TZID=America/New_York:20290207T140000
DTEND;TZID=America/New_York:20290207T140000
DTSTAMP:20260425T234147
CREATED:20260206T211732Z
LAST-MODIFIED:20260416T194748Z
UID:10023340-1865167200-1865167200@www.hiltonheadrv.com
SUMMARY:Pickleball Meet & Greet
DESCRIPTION:Join your neighbors on the court for a casual Pickleball Meet & Greet! Whether you’re a seasoned player or just learning the ropes\, everyone is welcome. Bring your paddle and let’s rally!
URL:https://www.hiltonheadrv.com/event/pickleball-meetup-6-2/2029-02-07/
CATEGORIES:On-Site Activities
ATTACH;FMTTYPE=image/png:https://www.hiltonheadrv.com/wp-content/uploads/2025/05/Pickleball-Meetup.png
END:VEVENT
BEGIN:VEVENT
DTSTART;TZID=America/New_York:20290208T170000
DTEND;TZID=America/New_York:20290208T180000
DTSTAMP:20260425T234147
CREATED:20250617T175221Z
LAST-MODIFIED:20260402T203044Z
UID:10011469-1865264400-1865268000@www.hiltonheadrv.com
SUMMARY:Music Bingo
DESCRIPTION:Get ready for a musical twist on classic bingo! Tap your toes\, sing along\, and match the tunes to your card. Prizes\, fun\, and feel-good vibes guaranteed. Whether you’re a music buff or just love a good time\, this one’s for you! 🎵💃🎉 \n🕔 Time: 5:00 PM📍 Location: Billy Mac
URL:https://www.hiltonheadrv.com/event/music-bingo/2029-02-08/
CATEGORIES:Carousel Event,On-Site Activities
ATTACH;FMTTYPE=image/png:https://www.hiltonheadrv.com/wp-content/uploads/2025/06/Music-Bingo-Graphic.png
END:VEVENT
BEGIN:VEVENT
DTSTART;TZID=America/New_York:20290210T100000
DTEND;TZID=America/New_York:20290210T110000
DTSTAMP:20260425T234147
CREATED:20260410T210113Z
LAST-MODIFIED:20260416T200531Z
UID:10025844-1865412000-1865415600@www.hiltonheadrv.com
SUMMARY:Tie Dye
DESCRIPTION:Get colorful and creative at our Tie Dye session on the Back Lawn! We’ll provide the supplies—you bring the fun. Perfect for all ages\, and you’ll walk away with a one-of-a-kind wearable masterpiece!
URL:https://www.hiltonheadrv.com/event/tie-dye-7/2029-02-10/
CATEGORIES:Carousel Event,On-Site Activities
ATTACH;FMTTYPE=image/png:https://www.hiltonheadrv.com/wp-content/uploads/2025/06/Tie-Dye-Graphic-1.png
END:VEVENT
BEGIN:VEVENT
DTSTART;TZID=America/New_York:20290211T140000
DTEND;TZID=America/New_York:20290211T160000
DTSTAMP:20260425T234147
CREATED:20260305T161436Z
LAST-MODIFIED:20260402T204729Z
UID:10024881-1865512800-1865520000@www.hiltonheadrv.com
SUMMARY:Sundae on Sundays
DESCRIPTION:Treat yourself at Sundae on Sundays! 🍨 Purchase a delicious scoop of ice cream and make it your own at our complimentary topping bar\, filled with sweet extras and fun flavors. It’s the perfect way to end the weekend with a little something sweet!
URL:https://www.hiltonheadrv.com/event/sundae-on-sundays/2029-02-11/
CATEGORIES:On-Site Activities
END:VEVENT
BEGIN:VEVENT
DTSTART;TZID=America/New_York:20290212T120000
DTEND;TZID=America/New_York:20290212T120000
DTSTAMP:20260425T234147
CREATED:20260402T201732Z
LAST-MODIFIED:20260410T203150Z
UID:10025524-1865592000-1865592000@www.hiltonheadrv.com
SUMMARY:Scavenger Hunt
DESCRIPTION:
URL:https://www.hiltonheadrv.com/event/scavenger-hunt-2/2029-02-12/
CATEGORIES:On-Site Activities
END:VEVENT
BEGIN:VEVENT
DTSTART;TZID=America/New_York:20290213T160000
DTEND;TZID=America/New_York:20290213T200000
DTSTAMP:20260425T234147
CREATED:20250926T173511Z
LAST-MODIFIED:20250926T173511Z
UID:10018379-1865692800-1865707200@www.hiltonheadrv.com
SUMMARY:Tacos & Tequila
DESCRIPTION:🌮✨ Tacos & Tequila Tuesdays ✨🍹Join us every Tuesday from 4–8 PM at Billy Mac’s for an evening of flavor and fun. Enjoy chef-crafted tacos paired with premium tequilas and handcrafted cocktails in a lively\, upscale atmosphere. The perfect midweek escape — where great food\, great drinks\, and great company come together.
URL:https://www.hiltonheadrv.com/event/tacos-tequila/2029-02-13/
LOCATION:Billy Mac’s Grille
CATEGORIES:On-Site Activities
END:VEVENT
BEGIN:VEVENT
DTSTART;TZID=America/New_York:20290214T090000
DTEND;TZID=America/New_York:20290214T090000
DTSTAMP:20260425T234147
CREATED:20250628T160049Z
LAST-MODIFIED:20251219T185845Z
UID:10010421-1865754000-1865754000@www.hiltonheadrv.com
SUMMARY:Coffee and Donuts
DESCRIPTION:Start your morning right with a fresh cup of coffee and a sweet donut (or two!). A perfect chance to mingle\, relax\, and ease into the day with your neighbors. 🍩✨ \n🕘 Time: 9:00 AM📍 Location: Main Clubhouse
URL:https://www.hiltonheadrv.com/event/coffee-and-donuts-2/2029-02-14/
CATEGORIES:Carousel Event,On-Site Activities
ATTACH;FMTTYPE=image/png:https://www.hiltonheadrv.com/wp-content/uploads/2025/06/Coffee-Donuts-Graphic.png
END:VEVENT
BEGIN:VEVENT
DTSTART;TZID=America/New_York:20290214T090000
DTEND;TZID=America/New_York:20290214T100000
DTSTAMP:20260425T234147
CREATED:20250628T142417Z
LAST-MODIFIED:20260305T154558Z
UID:10015990-1865754000-1865757600@www.hiltonheadrv.com
SUMMARY:Family Photo Hour
DESCRIPTION:Capture the magic of your stay at our Family Photo Hour! Join us for a complimentary mini photo session set against the beautiful backdrop of the resort. It’s the perfect way to preserve special memories with your loved ones — and each family receives their photos digitally\, free of charge! \n🕐 Time: 9:00 AM \n📍 Location: Main Pool
URL:https://www.hiltonheadrv.com/event/family-photo-hour-3/2029-02-14/
CATEGORIES:On-Site Activities
ATTACH;FMTTYPE=image/png:https://www.hiltonheadrv.com/wp-content/uploads/2025/06/Family-Photo-Hour-Graphic-3.png
END:VEVENT
BEGIN:VEVENT
DTSTART;TZID=America/New_York:20290214T140000
DTEND;TZID=America/New_York:20290214T140000
DTSTAMP:20260425T234147
CREATED:20260206T211732Z
LAST-MODIFIED:20260416T194748Z
UID:10023341-1865772000-1865772000@www.hiltonheadrv.com
SUMMARY:Pickleball Meet & Greet
DESCRIPTION:Join your neighbors on the court for a casual Pickleball Meet & Greet! Whether you’re a seasoned player or just learning the ropes\, everyone is welcome. Bring your paddle and let’s rally!
URL:https://www.hiltonheadrv.com/event/pickleball-meetup-6-2/2029-02-14/
CATEGORIES:On-Site Activities
ATTACH;FMTTYPE=image/png:https://www.hiltonheadrv.com/wp-content/uploads/2025/05/Pickleball-Meetup.png
END:VEVENT
BEGIN:VEVENT
DTSTART;TZID=America/New_York:20290215T170000
DTEND;TZID=America/New_York:20290215T180000
DTSTAMP:20260425T234147
CREATED:20250617T175221Z
LAST-MODIFIED:20260402T203044Z
UID:10011470-1865869200-1865872800@www.hiltonheadrv.com
SUMMARY:Music Bingo
DESCRIPTION:Get ready for a musical twist on classic bingo! Tap your toes\, sing along\, and match the tunes to your card. Prizes\, fun\, and feel-good vibes guaranteed. Whether you’re a music buff or just love a good time\, this one’s for you! 🎵💃🎉 \n🕔 Time: 5:00 PM📍 Location: Billy Mac
URL:https://www.hiltonheadrv.com/event/music-bingo/2029-02-15/
CATEGORIES:Carousel Event,On-Site Activities
ATTACH;FMTTYPE=image/png:https://www.hiltonheadrv.com/wp-content/uploads/2025/06/Music-Bingo-Graphic.png
END:VEVENT
BEGIN:VEVENT
DTSTART;TZID=America/New_York:20290217T100000
DTEND;TZID=America/New_York:20290217T110000
DTSTAMP:20260425T234147
CREATED:20260410T210113Z
LAST-MODIFIED:20260416T200531Z
UID:10025845-1866016800-1866020400@www.hiltonheadrv.com
SUMMARY:Tie Dye
DESCRIPTION:Get colorful and creative at our Tie Dye session on the Back Lawn! We’ll provide the supplies—you bring the fun. Perfect for all ages\, and you’ll walk away with a one-of-a-kind wearable masterpiece!
URL:https://www.hiltonheadrv.com/event/tie-dye-7/2029-02-17/
CATEGORIES:Carousel Event,On-Site Activities
ATTACH;FMTTYPE=image/png:https://www.hiltonheadrv.com/wp-content/uploads/2025/06/Tie-Dye-Graphic-1.png
END:VEVENT
BEGIN:VEVENT
DTSTART;TZID=America/New_York:20290218T140000
DTEND;TZID=America/New_York:20290218T160000
DTSTAMP:20260425T234147
CREATED:20260305T161436Z
LAST-MODIFIED:20260402T204729Z
UID:10024882-1866117600-1866124800@www.hiltonheadrv.com
SUMMARY:Sundae on Sundays
DESCRIPTION:Treat yourself at Sundae on Sundays! 🍨 Purchase a delicious scoop of ice cream and make it your own at our complimentary topping bar\, filled with sweet extras and fun flavors. It’s the perfect way to end the weekend with a little something sweet!
URL:https://www.hiltonheadrv.com/event/sundae-on-sundays/2029-02-18/
CATEGORIES:On-Site Activities
END:VEVENT
BEGIN:VEVENT
DTSTART;TZID=America/New_York:20290219T120000
DTEND;TZID=America/New_York:20290219T120000
DTSTAMP:20260425T234147
CREATED:20260402T201732Z
LAST-MODIFIED:20260410T203150Z
UID:10025525-1866196800-1866196800@www.hiltonheadrv.com
SUMMARY:Scavenger Hunt
DESCRIPTION:
URL:https://www.hiltonheadrv.com/event/scavenger-hunt-2/2029-02-19/
CATEGORIES:On-Site Activities
END:VEVENT
BEGIN:VEVENT
DTSTART;TZID=America/New_York:20290220T160000
DTEND;TZID=America/New_York:20290220T200000
DTSTAMP:20260425T234147
CREATED:20250926T173511Z
LAST-MODIFIED:20250926T173511Z
UID:10018380-1866297600-1866312000@www.hiltonheadrv.com
SUMMARY:Tacos & Tequila
DESCRIPTION:🌮✨ Tacos & Tequila Tuesdays ✨🍹Join us every Tuesday from 4–8 PM at Billy Mac’s for an evening of flavor and fun. Enjoy chef-crafted tacos paired with premium tequilas and handcrafted cocktails in a lively\, upscale atmosphere. The perfect midweek escape — where great food\, great drinks\, and great company come together.
URL:https://www.hiltonheadrv.com/event/tacos-tequila/2029-02-20/
LOCATION:Billy Mac’s Grille
CATEGORIES:On-Site Activities
END:VEVENT
BEGIN:VEVENT
DTSTART;TZID=America/New_York:20290221T090000
DTEND;TZID=America/New_York:20290221T090000
DTSTAMP:20260425T234147
CREATED:20250628T160049Z
LAST-MODIFIED:20251219T185845Z
UID:10010422-1866358800-1866358800@www.hiltonheadrv.com
SUMMARY:Coffee and Donuts
DESCRIPTION:Start your morning right with a fresh cup of coffee and a sweet donut (or two!). A perfect chance to mingle\, relax\, and ease into the day with your neighbors. 🍩✨ \n🕘 Time: 9:00 AM📍 Location: Main Clubhouse
URL:https://www.hiltonheadrv.com/event/coffee-and-donuts-2/2029-02-21/
CATEGORIES:Carousel Event,On-Site Activities
ATTACH;FMTTYPE=image/png:https://www.hiltonheadrv.com/wp-content/uploads/2025/06/Coffee-Donuts-Graphic.png
END:VEVENT
END:VCALENDAR