BEGIN:VCALENDAR
VERSION:2.0
PRODID:-//Hilton Head National  RV - ECPv6.15.20//NONSGML v1.0//EN
CALSCALE:GREGORIAN
METHOD:PUBLISH
X-WR-CALNAME:Hilton Head National  RV
X-ORIGINAL-URL:https://www.hiltonheadrv.com
X-WR-CALDESC:Events for Hilton Head National  RV
REFRESH-INTERVAL;VALUE=DURATION:PT1H
X-Robots-Tag:noindex
X-PUBLISHED-TTL:PT1H
BEGIN:VTIMEZONE
TZID:America/New_York
BEGIN:DAYLIGHT
TZOFFSETFROM:-0500
TZOFFSETTO:-0400
TZNAME:EDT
DTSTART:20250309T070000
END:DAYLIGHT
BEGIN:STANDARD
TZOFFSETFROM:-0400
TZOFFSETTO:-0500
TZNAME:EST
DTSTART:20251102T060000
END:STANDARD
BEGIN:DAYLIGHT
TZOFFSETFROM:-0500
TZOFFSETTO:-0400
TZNAME:EDT
DTSTART:20260308T070000
END:DAYLIGHT
BEGIN:STANDARD
TZOFFSETFROM:-0400
TZOFFSETTO:-0500
TZNAME:EST
DTSTART:20261101T060000
END:STANDARD
BEGIN:DAYLIGHT
TZOFFSETFROM:-0500
TZOFFSETTO:-0400
TZNAME:EDT
DTSTART:20270314T070000
END:DAYLIGHT
BEGIN:STANDARD
TZOFFSETFROM:-0400
TZOFFSETTO:-0500
TZNAME:EST
DTSTART:20271107T060000
END:STANDARD
END:VTIMEZONE
BEGIN:VEVENT
DTSTART;TZID=America/New_York:20260405T100000
DTEND;TZID=America/New_York:20260405T100000
DTSTAMP:20260421T054854
CREATED:20260327T160740Z
LAST-MODIFIED:20260327T160740Z
UID:10025301-1775383200-1775383200@www.hiltonheadrv.com
SUMMARY:Easter Egg Hunt
DESCRIPTION:Hop on over for a classic Easter tradition! Kids are invited to join the Easter Egg Hunt and search for colorful eggs filled with fun surprises. It’s the perfect way to celebrate the season and make sweet holiday memories! 🐣🥚✨
URL:https://www.hiltonheadrv.com/event/easter-egg-hunt/
CATEGORIES:On-Site Activities
END:VEVENT
BEGIN:VEVENT
DTSTART;TZID=America/New_York:20260405T101500
DTEND;TZID=America/New_York:20260405T110000
DTSTAMP:20260421T054854
CREATED:20260327T160817Z
LAST-MODIFIED:20260327T160817Z
UID:10025302-1775384100-1775386800@www.hiltonheadrv.com
SUMMARY:Pictures with the Easter Bunny
DESCRIPTION:Capture the magic of the season with a special visit from the Easter Bunny! Stop by for photos\, smiles\, and a fun holiday memory the whole family will cherish. Don’t forget your camera! 🐰📸✨
URL:https://www.hiltonheadrv.com/event/pictures-with-the-easter-bunny/
CATEGORIES:On-Site Activities
END:VEVENT
BEGIN:VEVENT
DTSTART;TZID=America/New_York:20260405T110000
DTEND;TZID=America/New_York:20260405T160000
DTSTAMP:20260421T054854
CREATED:20260206T171118Z
LAST-MODIFIED:20260206T171431Z
UID:10022323-1775386800-1775404800@www.hiltonheadrv.com
SUMMARY:Easter Golf Tournament
DESCRIPTION:Get ready for a fun-filled day on the course!\n\n\n\nWelcome to the Hilton Head National Easter Golf Tournament! \n*Open to guests staying at Hilton Head National RV Resort only* \nCome join us for a fun-filled day at Hilton Head National Golf Club.Grab your clubs and hop on over for a day of friendly competition on the green. Whether you’re a seasoned pro or just starting out\, this tournament is perfect for all skill levels. Enjoy the beautiful surroundings and fresh air while meeting new friends and having fun. \nFormat: 4-person Scramble \nPrice: $100/player \nIncludes: 18 holes\, Warm-up range balls\, prizes\, boxed lunch \nRegister Here: https://www.eventbrite.com/e/2026-hilton-head-national-easter-golf-tournament-tickets-1982526478064?aff=oddtdtcreator 
URL:https://www.hiltonheadrv.com/event/easter-golf-tournament/
LOCATION:Hilton Head National Golf Club
CATEGORIES:On-Site Activities
ATTACH;FMTTYPE=image/png:https://www.hiltonheadrv.com/wp-content/uploads/2026/02/February-HHNRV-Newsletter-4.png
END:VEVENT
BEGIN:VEVENT
DTSTART;TZID=America/New_York:20260405T120000
DTEND;TZID=America/New_York:20260405T120000
DTSTAMP:20260421T054854
CREATED:20260327T160855Z
LAST-MODIFIED:20260327T160855Z
UID:10025303-1775390400-1775390400@www.hiltonheadrv.com
SUMMARY:Bunny Hop Sack Races
DESCRIPTION:Hop into the fun with our Bunny Hop Sack Races! Kids can jump\, race\, and laugh their way to the finish line in this playful Easter-themed activity. It’s all about friendly competition and big smiles! 🐰🏁✨
URL:https://www.hiltonheadrv.com/event/bunny-hop-sack-races/
CATEGORIES:On-Site Activities
END:VEVENT
BEGIN:VEVENT
DTSTART;TZID=America/New_York:20260405T140000
DTEND;TZID=America/New_York:20260405T140000
DTSTAMP:20260421T054854
CREATED:20260327T160923Z
LAST-MODIFIED:20260327T160923Z
UID:10025304-1775397600-1775397600@www.hiltonheadrv.com
SUMMARY:Easter Air Clay Creations
DESCRIPTION:Let creativity take shape at our Easter Air Clay Creations! Kids can mold\, design\, and decorate their own festive creations using soft\, colorful clay—perfect for a fun hands-on activity and a keepsake to take home! 🐰🎨✨
URL:https://www.hiltonheadrv.com/event/easter-air-clay-creations/
CATEGORIES:On-Site Activities
END:VEVENT
END:VCALENDAR