BEGIN:VCALENDAR
VERSION:2.0
PRODID:-//Hilton Head National  RV - ECPv6.15.20//NONSGML v1.0//EN
CALSCALE:GREGORIAN
METHOD:PUBLISH
X-ORIGINAL-URL:https://www.hiltonheadrv.com
X-WR-CALDESC:Events for Hilton Head National  RV
REFRESH-INTERVAL;VALUE=DURATION:PT1H
X-Robots-Tag:noindex
X-PUBLISHED-TTL:PT1H
BEGIN:VTIMEZONE
TZID:America/New_York
BEGIN:DAYLIGHT
TZOFFSETFROM:-0500
TZOFFSETTO:-0400
TZNAME:EDT
DTSTART:20250309T070000
END:DAYLIGHT
BEGIN:STANDARD
TZOFFSETFROM:-0400
TZOFFSETTO:-0500
TZNAME:EST
DTSTART:20251102T060000
END:STANDARD
BEGIN:DAYLIGHT
TZOFFSETFROM:-0500
TZOFFSETTO:-0400
TZNAME:EDT
DTSTART:20260308T070000
END:DAYLIGHT
BEGIN:STANDARD
TZOFFSETFROM:-0400
TZOFFSETTO:-0500
TZNAME:EST
DTSTART:20261101T060000
END:STANDARD
BEGIN:DAYLIGHT
TZOFFSETFROM:-0500
TZOFFSETTO:-0400
TZNAME:EDT
DTSTART:20270314T070000
END:DAYLIGHT
BEGIN:STANDARD
TZOFFSETFROM:-0400
TZOFFSETTO:-0500
TZNAME:EST
DTSTART:20271107T060000
END:STANDARD
END:VTIMEZONE
BEGIN:VEVENT
DTSTART;TZID=America/New_York:20260402T100000
DTEND;TZID=America/New_York:20260402T100000
DTSTAMP:20260421T041556
CREATED:20260327T153415Z
LAST-MODIFIED:20260402T203307Z
UID:10025278-1775124000-1775124000@www.hiltonheadrv.com
SUMMARY:Morning Guided Trail Walk
DESCRIPTION:Start your day with fresh air and great company! Join us for a peaceful Morning Trail Walk through scenic paths—perfect for stretching your legs\, clearing your mind\, and connecting with others. Don’t forget your water bottle and comfy shoes! 🌿👟 \n📍 Meet at: Main Clubhouse
URL:https://www.hiltonheadrv.com/event/morning-guided-trail-walk/2026-04-02/
CATEGORIES:On-Site Activities
ATTACH;FMTTYPE=image/png:https://www.hiltonheadrv.com/wp-content/uploads/2025/06/Morning-Trail-Walk-Graphic.png
END:VEVENT
BEGIN:VEVENT
DTSTART;TZID=America/New_York:20260402T120000
DTEND;TZID=America/New_York:20260402T140000
DTSTAMP:20260421T041556
CREATED:20250829T205133Z
LAST-MODIFIED:20251219T181851Z
UID:10018172-1775131200-1775138400@www.hiltonheadrv.com
SUMMARY:Farmers Market Field Trip
DESCRIPTION:Come explore the Bluffton Farmers Market with us! Hop on the shuttle at the Main Clubhouse and enjoy a morning filled with fresh local produce\, handmade goods\, and the charm of Bluffton. A perfect outing for foodies and market lovers alike! 🥕🧺
URL:https://www.hiltonheadrv.com/event/farmers-market-field-trip/2026-04-02/
CATEGORIES:On-Site Activities
ATTACH;FMTTYPE=image/png:https://www.hiltonheadrv.com/wp-content/uploads/2025/08/Farmers-Market-Graphic-2.png
END:VEVENT
BEGIN:VEVENT
DTSTART;TZID=America/New_York:20260402T120000
DTEND;TZID=America/New_York:20260402T140000
DTSTAMP:20260421T041556
CREATED:20260402T203137Z
LAST-MODIFIED:20260402T203137Z
UID:10018173-1775131200-1775138400@www.hiltonheadrv.com
SUMMARY:Farmers Market Field Trip
DESCRIPTION:Come explore the Bluffton Farmers Market with us! Hop on the shuttle at the Main Clubhouse and enjoy a morning filled with fresh local produce\, handmade goods\, and the charm of Bluffton. A perfect outing for foodies and market lovers alike! 🥕🧺
URL:https://www.hiltonheadrv.com/event/farmers-market-field-trip-2/2026-04-02/
CATEGORIES:On-Site Activities
ATTACH;FMTTYPE=image/png:https://www.hiltonheadrv.com/wp-content/uploads/2025/08/Farmers-Market-Graphic-2.png
END:VEVENT
BEGIN:VEVENT
DTSTART;TZID=America/New_York:20260402T143000
DTEND;TZID=America/New_York:20260402T143000
DTSTAMP:20260421T041556
CREATED:20260305T154729Z
LAST-MODIFIED:20260327T153742Z
UID:10025285-1775140200-1775140200@www.hiltonheadrv.com
SUMMARY:Decor For Your RV - Spring Wreaths
DESCRIPTION:Add a personal touch to your home-on-wheels! 🎀 Join us for a fun\, hands-on wreath-making workshop where you’ll create a beautiful\, custom wreath perfect for dressing up your RV door or campsite. We’ll provide all the supplies and guidance you need — you bring your creativity! You’ll leave with a unique piece of décor that’s ready to hang and sure to make your site feel even more like home. \n📍Main Clubhouse
URL:https://www.hiltonheadrv.com/event/decor-for-your-rv-spring-wreaths/2026-04-02/
CATEGORIES:On-Site Activities
ATTACH;FMTTYPE=image/png:https://www.hiltonheadrv.com/wp-content/uploads/2025/08/Wreath-Workshop-Graphic.png
END:VEVENT
BEGIN:VEVENT
DTSTART;TZID=America/New_York:20260402T170000
DTEND;TZID=America/New_York:20260402T180000
DTSTAMP:20260421T041556
CREATED:20250617T175221Z
LAST-MODIFIED:20260402T203044Z
UID:10011320-1775149200-1775152800@www.hiltonheadrv.com
SUMMARY:Music Bingo
DESCRIPTION:Get ready for a musical twist on classic bingo! Tap your toes\, sing along\, and match the tunes to your card. Prizes\, fun\, and feel-good vibes guaranteed. Whether you’re a music buff or just love a good time\, this one’s for you! 🎵💃🎉 \n🕔 Time: 5:00 PM📍 Location: Billy Mac
URL:https://www.hiltonheadrv.com/event/music-bingo/2026-04-02/
CATEGORIES:Carousel Event,On-Site Activities
ATTACH;FMTTYPE=image/png:https://www.hiltonheadrv.com/wp-content/uploads/2025/06/Music-Bingo-Graphic.png
END:VEVENT
BEGIN:VEVENT
DTSTART;TZID=America/New_York:20260402T190000
DTEND;TZID=America/New_York:20260402T190000
DTSTAMP:20260421T041556
CREATED:20260319T201352Z
LAST-MODIFIED:20260327T153814Z
UID:10025286-1775156400-1775156400@www.hiltonheadrv.com
SUMMARY:Paint & Sip Party - Spring Splendor
DESCRIPTION:Unleash your creativity at our Paint & Sip Party — the perfect mix of art\, relaxation\, and good company! For just $15 per person\, you’ll enjoy a fun guided painting session along with a complimentary glass of wine or beer and snacks to enjoy while you work. Your ticket also includes entry into a raffle for a chance to win a fun prize! \n Limited spots available — sign up today in our retail store to reserve your seat. Bring your friends\, your imagination\, and get ready for an evening of laughter\, creativity\, and memories to take home. \n📍Main Clubhouse
URL:https://www.hiltonheadrv.com/event/paint-sip-party-spring-splendor/2026-04-02/
CATEGORIES:On-Site Activities
END:VEVENT
END:VCALENDAR