BEGIN:VCALENDAR
VERSION:2.0
PRODID:-//Hilton Head National  RV - ECPv6.15.20//NONSGML v1.0//EN
CALSCALE:GREGORIAN
METHOD:PUBLISH
X-WR-CALNAME:Hilton Head National  RV
X-ORIGINAL-URL:https://www.hiltonheadrv.com
X-WR-CALDESC:Events for Hilton Head National  RV
REFRESH-INTERVAL;VALUE=DURATION:PT1H
X-Robots-Tag:noindex
X-PUBLISHED-TTL:PT1H
BEGIN:VTIMEZONE
TZID:America/New_York
BEGIN:DAYLIGHT
TZOFFSETFROM:-0500
TZOFFSETTO:-0400
TZNAME:EDT
DTSTART:20250309T070000
END:DAYLIGHT
BEGIN:STANDARD
TZOFFSETFROM:-0400
TZOFFSETTO:-0500
TZNAME:EST
DTSTART:20251102T060000
END:STANDARD
BEGIN:DAYLIGHT
TZOFFSETFROM:-0500
TZOFFSETTO:-0400
TZNAME:EDT
DTSTART:20260308T070000
END:DAYLIGHT
BEGIN:STANDARD
TZOFFSETFROM:-0400
TZOFFSETTO:-0500
TZNAME:EST
DTSTART:20261101T060000
END:STANDARD
BEGIN:DAYLIGHT
TZOFFSETFROM:-0500
TZOFFSETTO:-0400
TZNAME:EDT
DTSTART:20270314T070000
END:DAYLIGHT
BEGIN:STANDARD
TZOFFSETFROM:-0400
TZOFFSETTO:-0500
TZNAME:EST
DTSTART:20271107T060000
END:STANDARD
END:VTIMEZONE
BEGIN:VEVENT
DTSTART;TZID=America/New_York:20260401T090000
DTEND;TZID=America/New_York:20260401T090000
DTSTAMP:20260421T041227
CREATED:20250628T160049Z
LAST-MODIFIED:20251219T185845Z
UID:10010271-1775034000-1775034000@www.hiltonheadrv.com
SUMMARY:Coffee and Donuts
DESCRIPTION:Start your morning right with a fresh cup of coffee and a sweet donut (or two!). A perfect chance to mingle\, relax\, and ease into the day with your neighbors. 🍩✨ \n🕘 Time: 9:00 AM📍 Location: Main Clubhouse
URL:https://www.hiltonheadrv.com/event/coffee-and-donuts-2/2026-04-01/
CATEGORIES:Carousel Event,On-Site Activities
ATTACH;FMTTYPE=image/png:https://www.hiltonheadrv.com/wp-content/uploads/2025/06/Coffee-Donuts-Graphic.png
END:VEVENT
BEGIN:VEVENT
DTSTART;TZID=America/New_York:20260401T090000
DTEND;TZID=America/New_York:20260401T100000
DTSTAMP:20260421T041227
CREATED:20250628T142417Z
LAST-MODIFIED:20260305T154558Z
UID:10015840-1775034000-1775037600@www.hiltonheadrv.com
SUMMARY:Family Photo Hour
DESCRIPTION:Capture the magic of your stay at our Family Photo Hour! Join us for a complimentary mini photo session set against the beautiful backdrop of the resort. It’s the perfect way to preserve special memories with your loved ones — and each family receives their photos digitally\, free of charge! \n🕐 Time: 9:00 AM \n📍 Location: Main Pool
URL:https://www.hiltonheadrv.com/event/family-photo-hour-3/2026-04-01/
CATEGORIES:On-Site Activities
ATTACH;FMTTYPE=image/png:https://www.hiltonheadrv.com/wp-content/uploads/2025/06/Family-Photo-Hour-Graphic-3.png
END:VEVENT
BEGIN:VEVENT
DTSTART;TZID=America/New_York:20260401T130000
DTEND;TZID=America/New_York:20260401T130000
DTSTAMP:20260421T041227
CREATED:20260327T151803Z
LAST-MODIFIED:20260327T151803Z
UID:10024995-1775048400-1775048400@www.hiltonheadrv.com
SUMMARY:Easter Scratch Art Bookmarks
DESCRIPTION:Let kids get creative with a fun Easter twist! At this event\, they’ll scratch and reveal colorful designs to create their own festive Easter bookmarks—perfect for adding a little springtime joy to their favorite books! 🐰📖✨
URL:https://www.hiltonheadrv.com/event/easter-scratch-art-bookmarks/
CATEGORIES:On-Site Activities
END:VEVENT
BEGIN:VEVENT
DTSTART;TZID=America/New_York:20260401T140000
DTEND;TZID=America/New_York:20260401T140000
DTSTAMP:20260421T041227
CREATED:20260206T211732Z
LAST-MODIFIED:20260416T194748Z
UID:10023191-1775052000-1775052000@www.hiltonheadrv.com
SUMMARY:Pickleball Meet & Greet
DESCRIPTION:Join your neighbors on the court for a casual Pickleball Meet & Greet! Whether you’re a seasoned player or just learning the ropes\, everyone is welcome. Bring your paddle and let’s rally!
URL:https://www.hiltonheadrv.com/event/pickleball-meetup-6-2/2026-04-01/
CATEGORIES:On-Site Activities
ATTACH;FMTTYPE=image/png:https://www.hiltonheadrv.com/wp-content/uploads/2025/05/Pickleball-Meetup.png
END:VEVENT
BEGIN:VEVENT
DTSTART;TZID=America/New_York:20260401T150000
DTEND;TZID=America/New_York:20260401T150000
DTSTAMP:20260421T041227
CREATED:20260213T145109Z
LAST-MODIFIED:20260402T202943Z
UID:10024996-1775055600-1775055600@www.hiltonheadrv.com
SUMMARY:Mix & Mingle Craft Cocktail Class
DESCRIPTION:Shake\, stir\, and sip your way through a hands-on cocktail experience designed for both beginners and enthusiasts. Join us for a guided class featuring two handcrafted cocktails\, one refreshing mocktail\, and a light snack. Learn simple techniques\, discover new flavors\, and enjoy a relaxed\, social atmosphere—perfect for mingling and unwinding. \n$35 per person | Includes 2 cocktails\, 1 mocktail & light snack 
URL:https://www.hiltonheadrv.com/event/mix-mingle-craft-cocktail-class/2026-04-01/
CATEGORIES:On-Site Activities
END:VEVENT
BEGIN:VEVENT
DTSTART;TZID=America/New_York:20260401T160000
DTEND;TZID=America/New_York:20260401T200000
DTSTAMP:20260421T041227
CREATED:20260327T153124Z
LAST-MODIFIED:20260402T202718Z
UID:10025017-1775059200-1775073600@www.hiltonheadrv.com
SUMMARY:Burgers & Brews
DESCRIPTION:Join us every week at Billy Mac’s Grill for Burgers & Brews — a delicious lineup featuring burger flights and beer flights crafted for foodies and drink lovers alike. \nTaste your way through chef-inspired sliders packed with bold flavors\, each perfectly paired with local and regional brews. Whether you’re here after a round or just stopping by for great food and company\, it’s the ultimate way to unwind and savor the Lowcountry vibe.
URL:https://www.hiltonheadrv.com/event/burgers-brews-4/
LOCATION:Billy Mac’s Grille
CATEGORIES:On-Site Activities
END:VEVENT
BEGIN:VEVENT
DTSTART;TZID=America/New_York:20260401T160000
DTEND;TZID=America/New_York:20260401T200000
DTSTAMP:20260421T041227
CREATED:20260410T204231Z
LAST-MODIFIED:20260410T204232Z
UID:10025019-1775059200-1775073600@www.hiltonheadrv.com
SUMMARY:Burgers & Brews
DESCRIPTION:Join us every week at Billy Mac’s Grill for Burgers & Brews — a delicious lineup featuring burger flights and beer flights crafted for foodies and drink lovers alike. \nTaste your way through chef-inspired sliders packed with bold flavors\, each perfectly paired with local and regional brews. Whether you’re here after a round or just stopping by for great food and company\, it’s the ultimate way to unwind and savor the Lowcountry vibe.
URL:https://www.hiltonheadrv.com/event/burgers-brews-4-2/2026-04-01/
LOCATION:Billy Mac’s Grille
CATEGORIES:On-Site Activities
END:VEVENT
END:VCALENDAR