BEGIN:VCALENDAR
VERSION:2.0
PRODID:-//Hilton Head National  RV - ECPv6.15.20//NONSGML v1.0//EN
CALSCALE:GREGORIAN
METHOD:PUBLISH
X-ORIGINAL-URL:https://www.hiltonheadrv.com
X-WR-CALDESC:Events for Hilton Head National  RV
REFRESH-INTERVAL;VALUE=DURATION:PT1H
X-Robots-Tag:noindex
X-PUBLISHED-TTL:PT1H
BEGIN:VTIMEZONE
TZID:America/New_York
BEGIN:DAYLIGHT
TZOFFSETFROM:-0500
TZOFFSETTO:-0400
TZNAME:EDT
DTSTART:20250309T070000
END:DAYLIGHT
BEGIN:STANDARD
TZOFFSETFROM:-0400
TZOFFSETTO:-0500
TZNAME:EST
DTSTART:20251102T060000
END:STANDARD
BEGIN:DAYLIGHT
TZOFFSETFROM:-0500
TZOFFSETTO:-0400
TZNAME:EDT
DTSTART:20260308T070000
END:DAYLIGHT
BEGIN:STANDARD
TZOFFSETFROM:-0400
TZOFFSETTO:-0500
TZNAME:EST
DTSTART:20261101T060000
END:STANDARD
BEGIN:DAYLIGHT
TZOFFSETFROM:-0500
TZOFFSETTO:-0400
TZNAME:EDT
DTSTART:20270314T070000
END:DAYLIGHT
BEGIN:STANDARD
TZOFFSETFROM:-0400
TZOFFSETTO:-0500
TZNAME:EST
DTSTART:20271107T060000
END:STANDARD
END:VTIMEZONE
BEGIN:VEVENT
DTSTART;TZID=America/New_York:20260328T090000
DTEND;TZID=America/New_York:20260328T090000
DTSTAMP:20260421T090525
CREATED:20260319T202235Z
LAST-MODIFIED:20260327T155528Z
UID:10024460-1774688400-1774688400@www.hiltonheadrv.com
SUMMARY:1-Mile Run Club
DESCRIPTION:Join us for our 1-Mile Run Club—a fun and casual way to get moving\, meet fellow guests\, and enjoy the outdoors. All paces are welcome!
URL:https://www.hiltonheadrv.com/event/1-mile-run-club/2026-03-28/
CATEGORIES:On-Site Activities
END:VEVENT
BEGIN:VEVENT
DTSTART;TZID=America/New_York:20260328T100000
DTEND;TZID=America/New_York:20260328T110000
DTSTAMP:20260421T090525
CREATED:20260319T202412Z
LAST-MODIFIED:20260327T155603Z
UID:10024467-1774692000-1774695600@www.hiltonheadrv.com
SUMMARY:Tie Dye
DESCRIPTION:Get colorful and creative at our Tie Dye session on the Back Lawn! We’ll provide the supplies—you bring the fun. Perfect for all ages\, and you’ll walk away with a one-of-a-kind wearable masterpiece!
URL:https://www.hiltonheadrv.com/event/tie-dye-5/
CATEGORIES:Carousel Event,On-Site Activities
ATTACH;FMTTYPE=image/png:https://www.hiltonheadrv.com/wp-content/uploads/2025/06/Tie-Dye-Graphic-1.png
END:VEVENT
BEGIN:VEVENT
DTSTART;TZID=America/New_York:20260328T130000
DTEND;TZID=America/New_York:20260328T160000
DTSTAMP:20260421T090525
CREATED:20251121T174555Z
LAST-MODIFIED:20260416T200621Z
UID:10024727-1774702800-1774713600@www.hiltonheadrv.com
SUMMARY:Live Music
DESCRIPTION:Soak up the sun and enjoy the sounds of live music by the Main Pool! Whether you’re lounging\, swimming\, or dancing poolside\, it’s the perfect midday vibe to keep the fun going.
URL:https://www.hiltonheadrv.com/event/live-music-3/2026-03-28/
CATEGORIES:On-Site Activities
ATTACH;FMTTYPE=image/png:https://www.hiltonheadrv.com/wp-content/uploads/2025/06/Live-Music-Graphic-1.png
END:VEVENT
BEGIN:VEVENT
DTSTART;TZID=America/New_York:20260328T140000
DTEND;TZID=America/New_York:20260328T140000
DTSTAMP:20260421T090525
CREATED:20250625T124058Z
LAST-MODIFIED:20260319T202712Z
UID:10024728-1774706400-1774706400@www.hiltonheadrv.com
SUMMARY:Minute to Win It Games
DESCRIPTION:Get ready for fast-paced fun! Compete in quick and quirky one-minute games by the pool — perfect for all ages!
URL:https://www.hiltonheadrv.com/event/minute-to-win-it-challenges/2026-03-28/
CATEGORIES:On-Site Activities
ATTACH;FMTTYPE=image/png:https://www.hiltonheadrv.com/wp-content/uploads/2025/06/Minute-to-Win-It-Graphic-1.png
END:VEVENT
BEGIN:VEVENT
DTSTART;TZID=America/New_York:20260328T150000
DTEND;TZID=America/New_York:20260328T150000
DTSTAMP:20260421T090525
CREATED:20250802T200856Z
LAST-MODIFIED:20260416T195606Z
UID:10024729-1774710000-1774710000@www.hiltonheadrv.com
SUMMARY:Rock Painting
DESCRIPTION:Unleash your creativity at our Rock Painting Event! 🎨🪨 Choose your favorite rock\, grab some paint\, and let your imagination run wild. Whether you create a colorful keepsake\, a fun design for your campsite\, or a gift for someone special\, this family-friendly activity is a hit for all ages!
URL:https://www.hiltonheadrv.com/event/9093/2026-03-28/
CATEGORIES:On-Site Activities
ATTACH;FMTTYPE=image/png:https://www.hiltonheadrv.com/wp-content/uploads/2025/08/Rock-Painting-Graphic-1.png
END:VEVENT
END:VCALENDAR