BEGIN:VCALENDAR
VERSION:2.0
PRODID:-//Hilton Head National  RV - ECPv6.15.20//NONSGML v1.0//EN
CALSCALE:GREGORIAN
METHOD:PUBLISH
X-WR-CALNAME:Hilton Head National  RV
X-ORIGINAL-URL:https://www.hiltonheadrv.com
X-WR-CALDESC:Events for Hilton Head National  RV
REFRESH-INTERVAL;VALUE=DURATION:PT1H
X-Robots-Tag:noindex
X-PUBLISHED-TTL:PT1H
BEGIN:VTIMEZONE
TZID:America/New_York
BEGIN:DAYLIGHT
TZOFFSETFROM:-0500
TZOFFSETTO:-0400
TZNAME:EDT
DTSTART:20250309T070000
END:DAYLIGHT
BEGIN:STANDARD
TZOFFSETFROM:-0400
TZOFFSETTO:-0500
TZNAME:EST
DTSTART:20251102T060000
END:STANDARD
BEGIN:DAYLIGHT
TZOFFSETFROM:-0500
TZOFFSETTO:-0400
TZNAME:EDT
DTSTART:20260308T070000
END:DAYLIGHT
BEGIN:STANDARD
TZOFFSETFROM:-0400
TZOFFSETTO:-0500
TZNAME:EST
DTSTART:20261101T060000
END:STANDARD
BEGIN:DAYLIGHT
TZOFFSETFROM:-0500
TZOFFSETTO:-0400
TZNAME:EDT
DTSTART:20270314T070000
END:DAYLIGHT
BEGIN:STANDARD
TZOFFSETFROM:-0400
TZOFFSETTO:-0500
TZNAME:EST
DTSTART:20271107T060000
END:STANDARD
END:VTIMEZONE
BEGIN:VEVENT
DTSTART;TZID=America/New_York:20260321T100000
DTEND;TZID=America/New_York:20260321T110000
DTSTAMP:20260421T054828
CREATED:20251202T180403Z
LAST-MODIFIED:20260306T190904Z
UID:10024443-1774087200-1774090800@www.hiltonheadrv.com
SUMMARY:Tie Dye
DESCRIPTION:Get colorful and creative at our Tie Dye session on the Back Lawn! We’ll provide the supplies—you bring the fun. Perfect for all ages\, and you’ll walk away with a one-of-a-kind wearable masterpiece!
URL:https://www.hiltonheadrv.com/event/tie-dye-4/2026-03-21/
CATEGORIES:Carousel Event,On-Site Activities
ATTACH;FMTTYPE=image/png:https://www.hiltonheadrv.com/wp-content/uploads/2025/06/Tie-Dye-Graphic-1.png
END:VEVENT
BEGIN:VEVENT
DTSTART;TZID=America/New_York:20260321T120000
DTEND;TZID=America/New_York:20260321T120000
DTSTAMP:20260421T054828
CREATED:20260306T190245Z
LAST-MODIFIED:20260306T190245Z
UID:10024438-1774094400-1774094400@www.hiltonheadrv.com
SUMMARY:Intro to American Mahjong
DESCRIPTION:Join us for a fun and social introduction to the game of American Mahjong! Whether you’re a seasoned player or looking to learn something new\, this classic game is the perfect way to relax\, challenge your mind\, and connect with others. All skill levels welcome!
URL:https://www.hiltonheadrv.com/event/intro-to-american-mahjong/
CATEGORIES:On-Site Activities
END:VEVENT
BEGIN:VEVENT
DTSTART;TZID=America/New_York:20260321T170000
DTEND;TZID=America/New_York:20260321T180000
DTSTAMP:20260421T054828
CREATED:20260327T210058Z
LAST-MODIFIED:20260327T210059Z
UID:10021793-1774112400-1774116000@www.hiltonheadrv.com
SUMMARY:Trivia
DESCRIPTION:Put your knowledge to the test with a fun-filled trivia session! Come solo or bring a team — prizes\, laughs\, and bragging rights await. Don’t miss it! 🎉📚 \n🕔 Time: Fridays at 5:00 PM📍 Location: Billy Mac
URL:https://www.hiltonheadrv.com/event/trivia-fridays-3/
CATEGORIES:On-Site Activities
ATTACH;FMTTYPE=image/png:https://www.hiltonheadrv.com/wp-content/uploads/2026/01/Trivia-Night-Graphic-4.png
END:VEVENT
BEGIN:VEVENT
DTSTART;TZID=America/New_York:20260321T190000
DTEND;TZID=America/New_York:20260321T190000
DTSTAMP:20260421T054828
CREATED:20250625T123905Z
LAST-MODIFIED:20260410T205418Z
UID:10024444-1774119600-1774119600@www.hiltonheadrv.com
SUMMARY:Campfire Social & S’mores
DESCRIPTION:Gather ‘round for stories\, laughter\, and gooey s’mores by the fire. \n📍 Location: Community Firepit
URL:https://www.hiltonheadrv.com/event/campfire-social-smores/2026-03-21/
CATEGORIES:On-Site Activities
ATTACH;FMTTYPE=image/png:https://www.hiltonheadrv.com/wp-content/uploads/2025/06/Campfire-Social-Smores-Graphic.png
END:VEVENT
END:VCALENDAR