BEGIN:VCALENDAR
VERSION:2.0
PRODID:-//Hilton Head National  RV - ECPv6.15.20//NONSGML v1.0//EN
CALSCALE:GREGORIAN
METHOD:PUBLISH
X-WR-CALNAME:Hilton Head National  RV
X-ORIGINAL-URL:https://www.hiltonheadrv.com
X-WR-CALDESC:Events for Hilton Head National  RV
REFRESH-INTERVAL;VALUE=DURATION:PT1H
X-Robots-Tag:noindex
X-PUBLISHED-TTL:PT1H
BEGIN:VTIMEZONE
TZID:America/New_York
BEGIN:DAYLIGHT
TZOFFSETFROM:-0500
TZOFFSETTO:-0400
TZNAME:EDT
DTSTART:20250309T070000
END:DAYLIGHT
BEGIN:STANDARD
TZOFFSETFROM:-0400
TZOFFSETTO:-0500
TZNAME:EST
DTSTART:20251102T060000
END:STANDARD
BEGIN:DAYLIGHT
TZOFFSETFROM:-0500
TZOFFSETTO:-0400
TZNAME:EDT
DTSTART:20260308T070000
END:DAYLIGHT
BEGIN:STANDARD
TZOFFSETFROM:-0400
TZOFFSETTO:-0500
TZNAME:EST
DTSTART:20261101T060000
END:STANDARD
BEGIN:DAYLIGHT
TZOFFSETFROM:-0500
TZOFFSETTO:-0400
TZNAME:EDT
DTSTART:20270314T070000
END:DAYLIGHT
BEGIN:STANDARD
TZOFFSETFROM:-0400
TZOFFSETTO:-0500
TZNAME:EST
DTSTART:20271107T060000
END:STANDARD
END:VTIMEZONE
BEGIN:VEVENT
DTSTART;TZID=America/New_York:20260317T100000
DTEND;TZID=America/New_York:20260317T100000
DTSTAMP:20260421T054747
CREATED:20260306T185133Z
LAST-MODIFIED:20260306T185133Z
UID:10024432-1773741600-1773741600@www.hiltonheadrv.com
SUMMARY:Kid’s Craft Corner - St. Patty’s Day Frames & Spinners
DESCRIPTION:
URL:https://www.hiltonheadrv.com/event/kids-craft-corner-st-pattys-day-frames-spinners/
CATEGORIES:On-Site Activities
END:VEVENT
BEGIN:VEVENT
DTSTART;TZID=America/New_York:20260317T120000
DTEND;TZID=America/New_York:20260317T120000
DTSTAMP:20260421T054747
CREATED:20260305T154350Z
LAST-MODIFIED:20260416T194415Z
UID:10024433-1773748800-1773748800@www.hiltonheadrv.com
SUMMARY:Mimosas and Masterpieces
DESCRIPTION:Join us for Mimosas & Masterpieces\, a relaxing and creative event where you can craft your own beautiful sea glass art inspired by the coast. Enjoy a refreshing mimosa while you design your masterpiece — no experience needed! Your $15 ticket includes all supplies and a mimosa\, so just bring your creativity and get ready for a fun\, laid-back afternoon.
URL:https://www.hiltonheadrv.com/event/mimosas-and-masterpieces-coastal-sea-glass/2026-03-17/
LOCATION:Main Clubhouse
CATEGORIES:On-Site Activities
END:VEVENT
BEGIN:VEVENT
DTSTART;TZID=America/New_York:20260317T150000
DTEND;TZID=America/New_York:20260317T150000
DTSTAMP:20260421T054747
CREATED:20260306T185315Z
LAST-MODIFIED:20260306T185315Z
UID:10024434-1773759600-1773759600@www.hiltonheadrv.com
SUMMARY:Decor for Your RV - Luck of the Irish Light
DESCRIPTION:
URL:https://www.hiltonheadrv.com/event/decor-for-your-rv-luck-of-the-irish-light/
CATEGORIES:On-Site Activities
END:VEVENT
BEGIN:VEVENT
DTSTART;TZID=America/New_York:20260317T160000
DTEND;TZID=America/New_York:20260317T200000
DTSTAMP:20260421T054747
CREATED:20250926T173511Z
LAST-MODIFIED:20250926T173511Z
UID:10018227-1773763200-1773777600@www.hiltonheadrv.com
SUMMARY:Tacos & Tequila
DESCRIPTION:🌮✨ Tacos & Tequila Tuesdays ✨🍹Join us every Tuesday from 4–8 PM at Billy Mac’s for an evening of flavor and fun. Enjoy chef-crafted tacos paired with premium tequilas and handcrafted cocktails in a lively\, upscale atmosphere. The perfect midweek escape — where great food\, great drinks\, and great company come together.
URL:https://www.hiltonheadrv.com/event/tacos-tequila/2026-03-17/
LOCATION:Billy Mac’s Grille
CATEGORIES:On-Site Activities
END:VEVENT
END:VCALENDAR