BEGIN:VCALENDAR
VERSION:2.0
PRODID:-//Hilton Head National  RV - ECPv6.15.20//NONSGML v1.0//EN
CALSCALE:GREGORIAN
METHOD:PUBLISH
X-ORIGINAL-URL:https://www.hiltonheadrv.com
X-WR-CALDESC:Events for Hilton Head National  RV
REFRESH-INTERVAL;VALUE=DURATION:PT1H
X-Robots-Tag:noindex
X-PUBLISHED-TTL:PT1H
BEGIN:VTIMEZONE
TZID:America/New_York
BEGIN:DAYLIGHT
TZOFFSETFROM:-0500
TZOFFSETTO:-0400
TZNAME:EDT
DTSTART:20250309T070000
END:DAYLIGHT
BEGIN:STANDARD
TZOFFSETFROM:-0400
TZOFFSETTO:-0500
TZNAME:EST
DTSTART:20251102T060000
END:STANDARD
BEGIN:DAYLIGHT
TZOFFSETFROM:-0500
TZOFFSETTO:-0400
TZNAME:EDT
DTSTART:20260308T070000
END:DAYLIGHT
BEGIN:STANDARD
TZOFFSETFROM:-0400
TZOFFSETTO:-0500
TZNAME:EST
DTSTART:20261101T060000
END:STANDARD
BEGIN:DAYLIGHT
TZOFFSETFROM:-0500
TZOFFSETTO:-0400
TZNAME:EDT
DTSTART:20270314T070000
END:DAYLIGHT
BEGIN:STANDARD
TZOFFSETFROM:-0400
TZOFFSETTO:-0500
TZNAME:EST
DTSTART:20271107T060000
END:STANDARD
END:VTIMEZONE
BEGIN:VEVENT
DTSTART;TZID=America/New_York:20260313T110000
DTEND;TZID=America/New_York:20260313T110000
DTSTAMP:20260421T055424
CREATED:20260305T155408Z
LAST-MODIFIED:20260305T155408Z
UID:10023792-1773399600-1773399600@www.hiltonheadrv.com
SUMMARY:Pickleball Social Matchups
DESCRIPTION:Join your neighbors on the court for a casual Pickleball Meetup! Whether you’re a seasoned player or just learning the ropes\, everyone is welcome. Bring your paddle and let’s rally!
URL:https://www.hiltonheadrv.com/event/pickleball-social-matchups/
CATEGORIES:On-Site Activities
ATTACH;FMTTYPE=image/png:https://www.hiltonheadrv.com/wp-content/uploads/2025/05/Pickleball-Meetup.png
END:VEVENT
BEGIN:VEVENT
DTSTART;TZID=America/New_York:20260313T130000
DTEND;TZID=America/New_York:20260313T130000
DTSTAMP:20260421T055424
CREATED:20260206T211008Z
LAST-MODIFIED:20260306T190638Z
UID:10023793-1773406800-1773406800@www.hiltonheadrv.com
SUMMARY:Build Your Own Fire Starter
DESCRIPTION:Firestarters is a hands-on activity where guests will learn the basics of safely starting and building a fire\, including simple techniques\, helpful tips\, and best practices to get a fire going with confidence—perfect for campers of all experience levels.
URL:https://www.hiltonheadrv.com/event/firestarters/2026-03-13/
LOCATION:Main Clubhouse
CATEGORIES:On-Site Activities
END:VEVENT
BEGIN:VEVENT
DTSTART;TZID=America/New_York:20260313T160000
DTEND;TZID=America/New_York:20260313T160000
DTSTAMP:20260421T055424
CREATED:20260226T185404Z
LAST-MODIFIED:20260327T154135Z
UID:10023795-1773417600-1773417600@www.hiltonheadrv.com
SUMMARY:Trivia
DESCRIPTION:Put your knowledge to the test with a fun-filled trivia session! Come solo or bring a team — prizes\, laughs\, and bragging rights await. Don’t miss it! 🎉📚 \n📍 Location: Billy Mac’s
URL:https://www.hiltonheadrv.com/event/trivia-fridays-2/2026-03-13/
CATEGORIES:On-Site Activities
ATTACH;FMTTYPE=image/png:https://www.hiltonheadrv.com/wp-content/uploads/2026/01/Trivia-Night-Graphic-4.png
END:VEVENT
BEGIN:VEVENT
DTSTART;TZID=America/New_York:20260313T160000
DTEND;TZID=America/New_York:20260313T200000
DTSTAMP:20260421T055424
CREATED:20251021T151850Z
LAST-MODIFIED:20260327T152957Z
UID:10019183-1773417600-1773432000@www.hiltonheadrv.com
SUMMARY:Burgers & Brews
DESCRIPTION:Join us every week at Billy Mac’s Grill for Burgers & Brews — a delicious lineup featuring burger flights and beer flights crafted for foodies and drink lovers alike. \nTaste your way through chef-inspired sliders packed with bold flavors\, each perfectly paired with local and regional brews. Whether you’re here after a round or just stopping by for great food and company\, it’s the ultimate way to unwind and savor the Lowcountry vibe.
URL:https://www.hiltonheadrv.com/event/burgers-brews-2/2026-03-13/
LOCATION:Billy Mac’s Grille
CATEGORIES:On-Site Activities
END:VEVENT
BEGIN:VEVENT
DTSTART;TZID=America/New_York:20260313T180000
DTEND;TZID=America/New_York:20260313T180000
DTSTAMP:20260421T055424
CREATED:20260305T155849Z
LAST-MODIFIED:20260305T155849Z
UID:10023796-1773424800-1773424800@www.hiltonheadrv.com
SUMMARY:Campfire Social & S’mores - St. Patty’s Edition
DESCRIPTION:Gather around the fire for a festive Campfire Social & S’mores – St. Patty’s Edition! 🍀🔥 Enjoy a cozy evening with fellow guests as we celebrate with classic campfire s’mores\, great conversation\, and a little St. Patrick’s Day spirit. It’s the perfect way to relax\, meet new friends\, and enjoy a sweet treat under the stars.
URL:https://www.hiltonheadrv.com/event/campfire-social-smores-st-pattys-edition/
CATEGORIES:On-Site Activities
END:VEVENT
BEGIN:VEVENT
DTSTART;TZID=America/New_York:20260313T183000
DTEND;TZID=America/New_York:20260313T183000
DTSTAMP:20260421T055424
CREATED:20260305T155952Z
LAST-MODIFIED:20260305T155952Z
UID:10023797-1773426600-1773426600@www.hiltonheadrv.com
SUMMARY:“Lucky To Have You”- Pet Costume Contest  (Prizes for Most Green\, Most Sparkle\, and an Overall Winner)
DESCRIPTION:Show off your festive fur-friends at our “Lucky To Have You” Pet Costume Contest! 🍀🐾 Dress your pet in their best St. Patrick’s Day style and join the fun as we crown winners for Most Green\, Most Sparkle\, and an Overall Best Costume. It’s sure to be a paw-sitively adorable event you won’t want to miss!
URL:https://www.hiltonheadrv.com/event/lucky-to-have-you-pet-costume-contest-prizes-for-most-green-most-sparkle-and-an-overall-winner/
CATEGORIES:On-Site Activities
END:VEVENT
END:VCALENDAR