BEGIN:VCALENDAR
VERSION:2.0
PRODID:-//Hilton Head National  RV - ECPv6.15.20//NONSGML v1.0//EN
CALSCALE:GREGORIAN
METHOD:PUBLISH
X-ORIGINAL-URL:https://www.hiltonheadrv.com
X-WR-CALDESC:Events for Hilton Head National  RV
REFRESH-INTERVAL;VALUE=DURATION:PT1H
X-Robots-Tag:noindex
X-PUBLISHED-TTL:PT1H
BEGIN:VTIMEZONE
TZID:America/New_York
BEGIN:DAYLIGHT
TZOFFSETFROM:-0500
TZOFFSETTO:-0400
TZNAME:EDT
DTSTART:20250309T070000
END:DAYLIGHT
BEGIN:STANDARD
TZOFFSETFROM:-0400
TZOFFSETTO:-0500
TZNAME:EST
DTSTART:20251102T060000
END:STANDARD
BEGIN:DAYLIGHT
TZOFFSETFROM:-0500
TZOFFSETTO:-0400
TZNAME:EDT
DTSTART:20260308T070000
END:DAYLIGHT
BEGIN:STANDARD
TZOFFSETFROM:-0400
TZOFFSETTO:-0500
TZNAME:EST
DTSTART:20261101T060000
END:STANDARD
BEGIN:DAYLIGHT
TZOFFSETFROM:-0500
TZOFFSETTO:-0400
TZNAME:EDT
DTSTART:20270314T070000
END:DAYLIGHT
BEGIN:STANDARD
TZOFFSETFROM:-0400
TZOFFSETTO:-0500
TZNAME:EST
DTSTART:20271107T060000
END:STANDARD
END:VTIMEZONE
BEGIN:VEVENT
DTSTART;TZID=America/New_York:20260312T100000
DTEND;TZID=America/New_York:20260312T100000
DTSTAMP:20260421T055313
CREATED:20260213T145437Z
LAST-MODIFIED:20260306T185751Z
UID:10023791-1773309600-1773309600@www.hiltonheadrv.com
SUMMARY:Group Dog Walk
DESCRIPTION:Take a stroll with your pup and meet other dog owners along the way! Our Group Dog Walk is a casual\, guided walk designed for socializing\, movement\, and enjoying the outdoors together.
URL:https://www.hiltonheadrv.com/event/group-dog-walk/2026-03-12/
LOCATION:Main Clubhouse
CATEGORIES:On-Site Activities
END:VEVENT
BEGIN:VEVENT
DTSTART;TZID=America/New_York:20260312T120000
DTEND;TZID=America/New_York:20260312T140000
DTSTAMP:20260421T055313
CREATED:20250829T205133Z
LAST-MODIFIED:20251219T181851Z
UID:10018169-1773316800-1773324000@www.hiltonheadrv.com
SUMMARY:Farmers Market Field Trip
DESCRIPTION:Come explore the Bluffton Farmers Market with us! Hop on the shuttle at the Main Clubhouse and enjoy a morning filled with fresh local produce\, handmade goods\, and the charm of Bluffton. A perfect outing for foodies and market lovers alike! 🥕🧺
URL:https://www.hiltonheadrv.com/event/farmers-market-field-trip/2026-03-12/
CATEGORIES:On-Site Activities
ATTACH;FMTTYPE=image/png:https://www.hiltonheadrv.com/wp-content/uploads/2025/08/Farmers-Market-Graphic-2.png
END:VEVENT
BEGIN:VEVENT
DTSTART;TZID=America/New_York:20260312T150000
DTEND;TZID=America/New_York:20260312T150000
DTSTAMP:20260421T055313
CREATED:20260305T155102Z
LAST-MODIFIED:20260306T190344Z
UID:10023789-1773327600-1773327600@www.hiltonheadrv.com
SUMMARY:Craft Corner - Diamond Art Bookmarks
DESCRIPTION:Join us for a fun\, hands-on session where you’ll create a sparkling bookmark diamond art piece\, perfect for decorating your favorite books. All supplies will be provided\, and no experience is needed—just bring your creativity and enjoy a relaxing evening of crafting and community.
URL:https://www.hiltonheadrv.com/event/craft-corner-diamond-art-bookmarks/2026-03-12/
LOCATION:Main Clubhouse
CATEGORIES:On-Site Activities
END:VEVENT
BEGIN:VEVENT
DTSTART;TZID=America/New_York:20260312T170000
DTEND;TZID=America/New_York:20260312T180000
DTSTAMP:20260421T055313
CREATED:20250617T175221Z
LAST-MODIFIED:20260402T203044Z
UID:10011317-1773334800-1773338400@www.hiltonheadrv.com
SUMMARY:Music Bingo
DESCRIPTION:Get ready for a musical twist on classic bingo! Tap your toes\, sing along\, and match the tunes to your card. Prizes\, fun\, and feel-good vibes guaranteed. Whether you’re a music buff or just love a good time\, this one’s for you! 🎵💃🎉 \n🕔 Time: 5:00 PM📍 Location: Billy Mac
URL:https://www.hiltonheadrv.com/event/music-bingo/2026-03-12/
CATEGORIES:Carousel Event,On-Site Activities
ATTACH;FMTTYPE=image/png:https://www.hiltonheadrv.com/wp-content/uploads/2025/06/Music-Bingo-Graphic.png
END:VEVENT
BEGIN:VEVENT
DTSTART;TZID=America/New_York:20260312T190000
DTEND;TZID=America/New_York:20260312T190000
DTSTAMP:20260421T055313
CREATED:20260305T155207Z
LAST-MODIFIED:20260305T155207Z
UID:10023790-1773342000-1773342000@www.hiltonheadrv.com
SUMMARY:Paint & Sip Party - Lucky Charm Textured Art
DESCRIPTION:Unleash your creativity at our Paint & Sip Party — the perfect mix of art\, relaxation\, and good company! For just $15 per person\, you’ll enjoy a fun guided painting session along with a complimentary glass of wine or beer and snacks to enjoy while you work. Your ticket also includes entry into a raffle for a chance to win a fun prize! \n Limited spots available — sign up today in our retail store to reserve your seat. Bring your friends\, your imagination\, and get ready for an evening of laughter\, creativity\, and memories to take home. \n📍Main Clubhouse
URL:https://www.hiltonheadrv.com/event/paint-sip-party-lucky-charm-textured-art/
CATEGORIES:On-Site Activities
END:VEVENT
END:VCALENDAR