BEGIN:VCALENDAR
VERSION:2.0
PRODID:-//Hilton Head National  RV - ECPv6.15.20//NONSGML v1.0//EN
CALSCALE:GREGORIAN
METHOD:PUBLISH
X-ORIGINAL-URL:https://www.hiltonheadrv.com
X-WR-CALDESC:Events for Hilton Head National  RV
REFRESH-INTERVAL;VALUE=DURATION:PT1H
X-Robots-Tag:noindex
X-PUBLISHED-TTL:PT1H
BEGIN:VTIMEZONE
TZID:America/New_York
BEGIN:DAYLIGHT
TZOFFSETFROM:-0500
TZOFFSETTO:-0400
TZNAME:EDT
DTSTART:20250309T070000
END:DAYLIGHT
BEGIN:STANDARD
TZOFFSETFROM:-0400
TZOFFSETTO:-0500
TZNAME:EST
DTSTART:20251102T060000
END:STANDARD
BEGIN:DAYLIGHT
TZOFFSETFROM:-0500
TZOFFSETTO:-0400
TZNAME:EDT
DTSTART:20260308T070000
END:DAYLIGHT
BEGIN:STANDARD
TZOFFSETFROM:-0400
TZOFFSETTO:-0500
TZNAME:EST
DTSTART:20261101T060000
END:STANDARD
BEGIN:DAYLIGHT
TZOFFSETFROM:-0500
TZOFFSETTO:-0400
TZNAME:EDT
DTSTART:20270314T070000
END:DAYLIGHT
BEGIN:STANDARD
TZOFFSETFROM:-0400
TZOFFSETTO:-0500
TZNAME:EST
DTSTART:20271107T060000
END:STANDARD
END:VTIMEZONE
BEGIN:VEVENT
DTSTART;TZID=America/New_York:20260311T090000
DTEND;TZID=America/New_York:20260311T090000
DTSTAMP:20260421T055321
CREATED:20250628T160049Z
LAST-MODIFIED:20251219T185845Z
UID:10010268-1773219600-1773219600@www.hiltonheadrv.com
SUMMARY:Coffee and Donuts
DESCRIPTION:Start your morning right with a fresh cup of coffee and a sweet donut (or two!). A perfect chance to mingle\, relax\, and ease into the day with your neighbors. 🍩✨ \n🕘 Time: 9:00 AM📍 Location: Main Clubhouse
URL:https://www.hiltonheadrv.com/event/coffee-and-donuts-2/2026-03-11/
CATEGORIES:Carousel Event,On-Site Activities
ATTACH;FMTTYPE=image/png:https://www.hiltonheadrv.com/wp-content/uploads/2025/06/Coffee-Donuts-Graphic.png
END:VEVENT
BEGIN:VEVENT
DTSTART;TZID=America/New_York:20260311T120000
DTEND;TZID=America/New_York:20260311T120000
DTSTAMP:20260421T055321
CREATED:20260213T150009Z
LAST-MODIFIED:20260416T194018Z
UID:10023786-1773230400-1773230400@www.hiltonheadrv.com
SUMMARY:Paws in the Park Doggy Social
DESCRIPTION:A casual dog park meet-up for friendly pups and their humans. Come socialize and let the tails wag! \nLocation: Dog Park
URL:https://www.hiltonheadrv.com/event/paws-in-the-park-social/2026-03-11/
CATEGORIES:On-Site Activities
END:VEVENT
BEGIN:VEVENT
DTSTART;TZID=America/New_York:20260311T140000
DTEND;TZID=America/New_York:20260311T140000
DTSTAMP:20260421T055321
CREATED:20260206T211732Z
LAST-MODIFIED:20260416T194748Z
UID:10023188-1773237600-1773237600@www.hiltonheadrv.com
SUMMARY:Pickleball Meet & Greet
DESCRIPTION:Join your neighbors on the court for a casual Pickleball Meet & Greet! Whether you’re a seasoned player or just learning the ropes\, everyone is welcome. Bring your paddle and let’s rally!
URL:https://www.hiltonheadrv.com/event/pickleball-meetup-6-2/2026-03-11/
CATEGORIES:On-Site Activities
ATTACH;FMTTYPE=image/png:https://www.hiltonheadrv.com/wp-content/uploads/2025/05/Pickleball-Meetup.png
END:VEVENT
BEGIN:VEVENT
DTSTART;TZID=America/New_York:20260311T150000
DTEND;TZID=America/New_York:20260311T150000
DTSTAMP:20260421T055321
CREATED:20260305T154729Z
LAST-MODIFIED:20260327T153742Z
UID:10023787-1773241200-1773241200@www.hiltonheadrv.com
SUMMARY:Decor For Your RV - Spring Wreaths
DESCRIPTION:Add a personal touch to your home-on-wheels! 🎀 Join us for a fun\, hands-on wreath-making workshop where you’ll create a beautiful\, custom wreath perfect for dressing up your RV door or campsite. We’ll provide all the supplies and guidance you need — you bring your creativity! You’ll leave with a unique piece of décor that’s ready to hang and sure to make your site feel even more like home. \n📍Main Clubhouse
URL:https://www.hiltonheadrv.com/event/decor-for-your-rv-spring-wreaths/2026-03-11/
CATEGORIES:On-Site Activities
ATTACH;FMTTYPE=image/png:https://www.hiltonheadrv.com/wp-content/uploads/2025/08/Wreath-Workshop-Graphic.png
END:VEVENT
END:VCALENDAR