BEGIN:VCALENDAR
VERSION:2.0
PRODID:-//Hilton Head National  RV - ECPv6.15.20//NONSGML v1.0//EN
CALSCALE:GREGORIAN
METHOD:PUBLISH
X-WR-CALNAME:Hilton Head National  RV
X-ORIGINAL-URL:https://www.hiltonheadrv.com
X-WR-CALDESC:Events for Hilton Head National  RV
REFRESH-INTERVAL;VALUE=DURATION:PT1H
X-Robots-Tag:noindex
X-PUBLISHED-TTL:PT1H
BEGIN:VTIMEZONE
TZID:America/New_York
BEGIN:DAYLIGHT
TZOFFSETFROM:-0500
TZOFFSETTO:-0400
TZNAME:EDT
DTSTART:20250309T070000
END:DAYLIGHT
BEGIN:STANDARD
TZOFFSETFROM:-0400
TZOFFSETTO:-0500
TZNAME:EST
DTSTART:20251102T060000
END:STANDARD
BEGIN:DAYLIGHT
TZOFFSETFROM:-0500
TZOFFSETTO:-0400
TZNAME:EDT
DTSTART:20260308T070000
END:DAYLIGHT
BEGIN:STANDARD
TZOFFSETFROM:-0400
TZOFFSETTO:-0500
TZNAME:EST
DTSTART:20261101T060000
END:STANDARD
BEGIN:DAYLIGHT
TZOFFSETFROM:-0500
TZOFFSETTO:-0400
TZNAME:EDT
DTSTART:20270314T070000
END:DAYLIGHT
BEGIN:STANDARD
TZOFFSETFROM:-0400
TZOFFSETTO:-0500
TZNAME:EST
DTSTART:20271107T060000
END:STANDARD
END:VTIMEZONE
BEGIN:VEVENT
DTSTART;TZID=America/New_York:20260322T140000
DTEND;TZID=America/New_York:20260322T160000
DTSTAMP:20260421T091106
CREATED:20260305T161436Z
LAST-MODIFIED:20260402T204729Z
UID:10024446-1774188000-1774195200@www.hiltonheadrv.com
SUMMARY:Sundae on Sundays
DESCRIPTION:Treat yourself at Sundae on Sundays! 🍨 Purchase a delicious scoop of ice cream and make it your own at our complimentary topping bar\, filled with sweet extras and fun flavors. It’s the perfect way to end the weekend with a little something sweet!
URL:https://www.hiltonheadrv.com/event/sundae-on-sundays/2026-03-22/
CATEGORIES:On-Site Activities
END:VEVENT
END:VCALENDAR