BEGIN:VCALENDAR
VERSION:2.0
PRODID:-//Hilton Head National  RV - ECPv6.15.20//NONSGML v1.0//EN
CALSCALE:GREGORIAN
METHOD:PUBLISH
X-WR-CALNAME:Hilton Head National  RV
X-ORIGINAL-URL:https://www.hiltonheadrv.com
X-WR-CALDESC:Events for Hilton Head National  RV
REFRESH-INTERVAL;VALUE=DURATION:PT1H
X-Robots-Tag:noindex
X-PUBLISHED-TTL:PT1H
BEGIN:VTIMEZONE
TZID:America/New_York
BEGIN:DAYLIGHT
TZOFFSETFROM:-0500
TZOFFSETTO:-0400
TZNAME:EDT
DTSTART:20240310T070000
END:DAYLIGHT
BEGIN:STANDARD
TZOFFSETFROM:-0400
TZOFFSETTO:-0500
TZNAME:EST
DTSTART:20241103T060000
END:STANDARD
BEGIN:DAYLIGHT
TZOFFSETFROM:-0500
TZOFFSETTO:-0400
TZNAME:EDT
DTSTART:20250309T070000
END:DAYLIGHT
BEGIN:STANDARD
TZOFFSETFROM:-0400
TZOFFSETTO:-0500
TZNAME:EST
DTSTART:20251102T060000
END:STANDARD
BEGIN:DAYLIGHT
TZOFFSETFROM:-0500
TZOFFSETTO:-0400
TZNAME:EDT
DTSTART:20260308T070000
END:DAYLIGHT
BEGIN:STANDARD
TZOFFSETFROM:-0400
TZOFFSETTO:-0500
TZNAME:EST
DTSTART:20261101T060000
END:STANDARD
END:VTIMEZONE
BEGIN:VEVENT
DTSTART;TZID=America/New_York:20251025T190000
DTEND;TZID=America/New_York:20251025T203000
DTSTAMP:20260421T101933
CREATED:20250926T195638Z
LAST-MODIFIED:20251025T203416Z
UID:10019081-1761418800-1761424200@www.hiltonheadrv.com
SUMMARY:Spirits & Spooks Halloween Trail
DESCRIPTION:Take a walk on the spooky side with our Spirits & Spooks Halloween Trail\, open Friday and Saturday nights! 🌙👻 Stroll through a festive\, fright-filled path lined with glowing lights\, Halloween décor\, and surprises around every corner. Perfect for families and friends\, this seasonal adventure combines just the right amount of spooky fun with plenty of Halloween spirit. Don’t forget your costume—and your courage!
URL:https://www.hiltonheadrv.com/event/spirits-spooks-halloween-trail/2025-10-25/
CATEGORIES:On-Site Activities
END:VEVENT
END:VCALENDAR