BEGIN:VCALENDAR
VERSION:2.0
PRODID:-//Hilton Head National  RV - ECPv6.15.20//NONSGML v1.0//EN
CALSCALE:GREGORIAN
METHOD:PUBLISH
X-WR-CALNAME:Hilton Head National  RV
X-ORIGINAL-URL:https://www.hiltonheadrv.com
X-WR-CALDESC:Events for Hilton Head National  RV
REFRESH-INTERVAL;VALUE=DURATION:PT1H
X-Robots-Tag:noindex
X-PUBLISHED-TTL:PT1H
BEGIN:VTIMEZONE
TZID:America/New_York
BEGIN:DAYLIGHT
TZOFFSETFROM:-0500
TZOFFSETTO:-0400
TZNAME:EDT
DTSTART:20250309T070000
END:DAYLIGHT
BEGIN:STANDARD
TZOFFSETFROM:-0400
TZOFFSETTO:-0500
TZNAME:EST
DTSTART:20251102T060000
END:STANDARD
BEGIN:DAYLIGHT
TZOFFSETFROM:-0500
TZOFFSETTO:-0400
TZNAME:EDT
DTSTART:20260308T070000
END:DAYLIGHT
BEGIN:STANDARD
TZOFFSETFROM:-0400
TZOFFSETTO:-0500
TZNAME:EST
DTSTART:20261101T060000
END:STANDARD
BEGIN:DAYLIGHT
TZOFFSETFROM:-0500
TZOFFSETTO:-0400
TZNAME:EDT
DTSTART:20270314T070000
END:DAYLIGHT
BEGIN:STANDARD
TZOFFSETFROM:-0400
TZOFFSETTO:-0500
TZNAME:EST
DTSTART:20271107T060000
END:STANDARD
END:VTIMEZONE
BEGIN:VEVENT
DTSTART;TZID=America/New_York:20260314T120000
DTEND;TZID=America/New_York:20260314T120000
DTSTAMP:20260421T110757
CREATED:20260305T160829Z
LAST-MODIFIED:20260305T160829Z
UID:10235-1773489600-1773489600@www.hiltonheadrv.com
SUMMARY:Pot of Gold Treat Decorating
DESCRIPTION:Get creative at our Pot of Gold Treat Decorating! 🍀🌈 Join us for a fun and festive activity where you can decorate your own sweet treats inspired by the colors of the rainbow and the luck of the Irish. With plenty of toppings and decorations to choose from\, it’s the perfect way to enjoy a little St. Patrick’s Day fun!
URL:https://www.hiltonheadrv.com/event/pot-of-gold-treat-decorating/
CATEGORIES:On-Site Activities
END:VEVENT
END:VCALENDAR