BEGIN:VCALENDAR
VERSION:2.0
PRODID:-//Hilton Head National  RV - ECPv6.15.20//NONSGML v1.0//EN
CALSCALE:GREGORIAN
METHOD:PUBLISH
X-WR-CALNAME:Hilton Head National  RV
X-ORIGINAL-URL:https://www.hiltonheadrv.com
X-WR-CALDESC:Events for Hilton Head National  RV
REFRESH-INTERVAL;VALUE=DURATION:PT1H
X-Robots-Tag:noindex
X-PUBLISHED-TTL:PT1H
BEGIN:VTIMEZONE
TZID:America/New_York
BEGIN:DAYLIGHT
TZOFFSETFROM:-0500
TZOFFSETTO:-0400
TZNAME:EDT
DTSTART:20240310T070000
END:DAYLIGHT
BEGIN:STANDARD
TZOFFSETFROM:-0400
TZOFFSETTO:-0500
TZNAME:EST
DTSTART:20241103T060000
END:STANDARD
BEGIN:DAYLIGHT
TZOFFSETFROM:-0500
TZOFFSETTO:-0400
TZNAME:EDT
DTSTART:20250309T070000
END:DAYLIGHT
BEGIN:STANDARD
TZOFFSETFROM:-0400
TZOFFSETTO:-0500
TZNAME:EST
DTSTART:20251102T060000
END:STANDARD
BEGIN:DAYLIGHT
TZOFFSETFROM:-0500
TZOFFSETTO:-0400
TZNAME:EDT
DTSTART:20260308T070000
END:DAYLIGHT
BEGIN:STANDARD
TZOFFSETFROM:-0400
TZOFFSETTO:-0500
TZNAME:EST
DTSTART:20261101T060000
END:STANDARD
END:VTIMEZONE
BEGIN:VEVENT
DTSTART;TZID=America/New_York:20251030T193000
DTEND;TZID=America/New_York:20251030T193000
DTSTAMP:20260421T114433
CREATED:20250926T194942Z
LAST-MODIFIED:20251025T201323Z
UID:10019426-1761852600-1761852600@www.hiltonheadrv.com
SUMMARY:Halloween Paint & Sip Party
DESCRIPTION:Spooky Paint & Sip PartyUnleash your creativity at our Halloween Paint & Sip Party — a festive mix of art\, spirits\, and spooky fun! For just $15 per person\, you’ll take part in a guided Halloween-themed painting session while enjoying a complimentary glass of wine or beer to sip as you create. Your ticket also includes entry into a raffle for a chance to win a Halloween wine glass! 🎃👻 \nLimited spots are available — sign up today in our retail store to reserve your seat. Bring your friends\, your imagination\, and get ready for a frightfully fun evening filled with laughter\, creativity\, and memories to take home. \nLocation: Main Clubhouse
URL:https://www.hiltonheadrv.com/event/halloween-paint-sip-party/2025-10-30/
LOCATION:Main Clubhouse
CATEGORIES:On-Site Activities
END:VEVENT
END:VCALENDAR