BEGIN:VCALENDAR
VERSION:2.0
PRODID:-//Hilton Head National  RV - ECPv6.15.20//NONSGML v1.0//EN
CALSCALE:GREGORIAN
METHOD:PUBLISH
X-WR-CALNAME:Hilton Head National  RV
X-ORIGINAL-URL:https://www.hiltonheadrv.com
X-WR-CALDESC:Events for Hilton Head National  RV
REFRESH-INTERVAL;VALUE=DURATION:PT1H
X-Robots-Tag:noindex
X-PUBLISHED-TTL:PT1H
BEGIN:VTIMEZONE
TZID:America/New_York
BEGIN:DAYLIGHT
TZOFFSETFROM:-0500
TZOFFSETTO:-0400
TZNAME:EDT
DTSTART:20240310T070000
END:DAYLIGHT
BEGIN:STANDARD
TZOFFSETFROM:-0400
TZOFFSETTO:-0500
TZNAME:EST
DTSTART:20241103T060000
END:STANDARD
BEGIN:DAYLIGHT
TZOFFSETFROM:-0500
TZOFFSETTO:-0400
TZNAME:EDT
DTSTART:20250309T070000
END:DAYLIGHT
BEGIN:STANDARD
TZOFFSETFROM:-0400
TZOFFSETTO:-0500
TZNAME:EST
DTSTART:20251102T060000
END:STANDARD
BEGIN:DAYLIGHT
TZOFFSETFROM:-0500
TZOFFSETTO:-0400
TZNAME:EDT
DTSTART:20260308T070000
END:DAYLIGHT
BEGIN:STANDARD
TZOFFSETFROM:-0400
TZOFFSETTO:-0500
TZNAME:EST
DTSTART:20261101T060000
END:STANDARD
END:VTIMEZONE
BEGIN:VEVENT
DTSTART;TZID=America/New_York:20251018T150000
DTEND;TZID=America/New_York:20251018T150000
DTSTAMP:20260425T144015
CREATED:20250926T194441Z
LAST-MODIFIED:20251015T145042Z
UID:10019141-1760799600-1760799600@www.hiltonheadrv.com
SUMMARY:Halloween BOHO Keychain Craft
DESCRIPTION:Add a spooky touch to your everyday accessories at our Halloween Keychain Craft event! 👻🗝️ Create your own festive keychain using Halloween-themed charms\, beads\, and colors—perfect for decorating your keys\, backpack\, or RV. This hands-on craft is easy\, fun\, and a great way to show off your Halloween spirit. All supplies are included\, so just bring your creativity!
URL:https://www.hiltonheadrv.com/event/halloween-boho-keychain-craft/2025-10-18/
LOCATION:Main Clubhouse
CATEGORIES:On-Site Activities
END:VEVENT
END:VCALENDAR