BEGIN:VCALENDAR
VERSION:2.0
PRODID:-//Hilton Head National  RV - ECPv6.15.20//NONSGML v1.0//EN
CALSCALE:GREGORIAN
METHOD:PUBLISH
X-WR-CALNAME:Hilton Head National  RV
X-ORIGINAL-URL:https://www.hiltonheadrv.com
X-WR-CALDESC:Events for Hilton Head National  RV
REFRESH-INTERVAL;VALUE=DURATION:PT1H
X-Robots-Tag:noindex
X-PUBLISHED-TTL:PT1H
BEGIN:VTIMEZONE
TZID:America/New_York
BEGIN:DAYLIGHT
TZOFFSETFROM:-0500
TZOFFSETTO:-0400
TZNAME:EDT
DTSTART:20240310T070000
END:DAYLIGHT
BEGIN:STANDARD
TZOFFSETFROM:-0400
TZOFFSETTO:-0500
TZNAME:EST
DTSTART:20241103T060000
END:STANDARD
BEGIN:DAYLIGHT
TZOFFSETFROM:-0500
TZOFFSETTO:-0400
TZNAME:EDT
DTSTART:20250309T070000
END:DAYLIGHT
BEGIN:STANDARD
TZOFFSETFROM:-0400
TZOFFSETTO:-0500
TZNAME:EST
DTSTART:20251102T060000
END:STANDARD
BEGIN:DAYLIGHT
TZOFFSETFROM:-0500
TZOFFSETTO:-0400
TZNAME:EDT
DTSTART:20260308T070000
END:DAYLIGHT
BEGIN:STANDARD
TZOFFSETFROM:-0400
TZOFFSETTO:-0500
TZNAME:EST
DTSTART:20261101T060000
END:STANDARD
END:VTIMEZONE
BEGIN:VEVENT
DTSTART;TZID=America/New_York:20250830T200000
DTEND;TZID=America/New_York:20250830T213000
DTSTAMP:20260421T202518
CREATED:20250812T203840Z
LAST-MODIFIED:20250813T150448Z
UID:9166-1756584000-1756589400@www.hiltonheadrv.com
SUMMARY:Glow In The Dark Lawn Party
DESCRIPTION:Get ready to light up the night at our Glow in the Dark Lawn Party! 🌟✨ \nJoin us for an electrifying evening filled with vibrant glow-in-the-dark fun\, music\, and dazzling laser displays that will wow the whole family. Bring your brightest accessories and get ready to dance\, shine\, and celebrate like never before under the stars!
URL:https://www.hiltonheadrv.com/event/glow-party-laser-light-show-2/
CATEGORIES:On-Site Activities
ATTACH;FMTTYPE=image/png:https://www.hiltonheadrv.com/wp-content/uploads/2025/08/Glow-Party-Laser-Light-Show-Graphic-2.png
END:VEVENT
END:VCALENDAR